BEGIN:VCALENDAR
VERSION:2.0
PRODID:-//wp-events-plugin.com//7.2.3.1//EN
TZID:Europe/Amsterdam
X-WR-TIMEZONE:Europe/Amsterdam
BEGIN:VEVENT
UID:39134@agenda-zaanstreek.nl
DTSTART;TZID=Europe/Amsterdam:20250621T093000
DTEND;TZID=Europe/Amsterdam:20250621T104500
DTSTAMP:20250612T092211Z
URL:https://agenda-zaanstreek.nl/events/zonnegroeten-voor-internationale-y
 oga-dag/
SUMMARY:108 Zonnegroeten voor Internationale Yoga Dag
DESCRIPTION:\n\n&nbsp\;\n108 Zonnegroeten voor Internationale Yoga Dag met 
 Daniela\nGa met ons mee op Internationale Yogadag voor een krachtige en me
 ditatieve ervaring: 108 Zonnegroeten. Dit oude ritueel symboliseert transf
 ormatie\, kracht en toewijding. We herhalen Surya Namaskar 108 keer in een
  ritmische flow. Beweeg in je eigen tempo\, neem pauzes wanneer dat nodig 
 is. Of je nu 8 of alle 108 rondes doet\, het gaat om je aanwezigheid. Als 
 het weer het toelaat\, oefenen we de zonnegroet op het kerkplein naast Yog
 adreams. Anders zitten we binnen. Voor wie: iedereen met enige yoga-ervari
 ng. Wat mee te nemen: een matje\, water\, handdoek en een open hart. Deze 
 les is GRATIS voor iedereen! Meld je aan en sluit je aan bij yogi's over d
 e hele wereld in deze betekenisvolle viering.\n
CATEGORIES:Spiritueel
LOCATION:Yogadreams\, Vinkenstraat 36 a\, Zaandam\, Nederland
X-APPLE-STRUCTURED-LOCATION;VALUE=URI;X-ADDRESS=Vinkenstraat 36 a\, Zaandam
 \, Nederland;X-APPLE-RADIUS=100;X-TITLE=Yogadreams:geo:0,0
END:VEVENT
BEGIN:VTIMEZONE
TZID:Europe/Amsterdam
X-LIC-LOCATION:Europe/Amsterdam
BEGIN:DAYLIGHT
DTSTART:20250330T030000
TZOFFSETFROM:+0100
TZOFFSETTO:+0200
TZNAME:CEST
END:DAYLIGHT
END:VTIMEZONE
END:VCALENDAR