BEGIN:VCALENDAR
VERSION:2.0
PRODID:-//wp-events-plugin.com//7.2.3.1//EN
TZID:Europe/Amsterdam
X-WR-TIMEZONE:Europe/Amsterdam
BEGIN:VEVENT
UID:38487@agenda-zaanstreek.nl
DTSTART;TZID=Europe/Amsterdam:20250518T140000
DTEND;TZID=Europe/Amsterdam:20250518T170000
DTSTAMP:20250501T075150Z
URL:https://agenda-zaanstreek.nl/events/zondagmiddag-muziek-dans-met-the-d
 efenders/
SUMMARY:Zondagmiddag muziek & dans met The Defenders
DESCRIPTION:\n\n\n&nbsp\;\n\n\n\n\n\n\n\n\nThe Defenders komen een swingend
 e middag verzorgen met muziek van de SIXTIES.&nbsp\;\n\n\n\nDag/Tijd\nzond
 agmiddag 18 mei\, 14-17 uur\n\n\nLocatie\nGrote Zaal\n\n\nEntree\n€ 10 (
 inclusief hapjes)\n\n\nOrganisatie\nCW productions\n\n\nInformatie\n06-125
 63668\, Chantal Schriekenberg\n\n\n\n&nbsp\;\n\n\n\n\n\n\n\n\n\n\n\n\n\n
CATEGORIES:Muziek
LOCATION:Buurthuis De Vuister\, Molenwerf 158\, Koog aan de Zaan\, 1541 WR\
 , Nederland
X-APPLE-STRUCTURED-LOCATION;VALUE=URI;X-ADDRESS=Molenwerf 158\, Koog aan de
  Zaan\, 1541 WR\, Nederland;X-APPLE-RADIUS=100;X-TITLE=Buurthuis De Vuiste
 r:geo:0,0
END:VEVENT
BEGIN:VTIMEZONE
TZID:Europe/Amsterdam
X-LIC-LOCATION:Europe/Amsterdam
BEGIN:DAYLIGHT
DTSTART:20250330T030000
TZOFFSETFROM:+0100
TZOFFSETTO:+0200
TZNAME:CEST
END:DAYLIGHT
END:VTIMEZONE
END:VCALENDAR