BEGIN:VCALENDAR
VERSION:2.0
PRODID:-//wp-events-plugin.com//7.2.3.1//EN
TZID:Europe/Amsterdam
X-WR-TIMEZONE:Europe/Amsterdam
BEGIN:VEVENT
UID:39615@agenda-zaanstreek.nl
DTSTART;TZID=Europe/Amsterdam:20250723T140000
DTEND;TZID=Europe/Amsterdam:20250723T140000
DTSTAMP:20250717T080412Z
URL:https://agenda-zaanstreek.nl/events/zomerkoor-in-wormerveer-elke-woens
 dag-meezingen-met-alles-voor-niets-in-de-knapzak/
SUMMARY:Zomerkoor in Wormerveer: elke woensdag meezingen met Alles Voor Nie
 ts in De Knapzak
DESCRIPTION:Kun je zingen als een zanglijster? Of ben je een schorre kraai?
 &nbsp\;\nZingende Zaankanters die tijdens de zomerstop willen\ndoorzingen 
 zijn nu iedere woensdagmiddag welkom in de Knapzak\,\nNoordeinde 18\, in W
 ormerveer.\nDe vriendelijke zangers en zangeressen van Alles Voor Niets ga
 an de hele zomer vrolijk\nverder. Ze zingen op ongedwongen wijze en zonder
  dirigent zelf ingebrachte muziek. Zo\nkomt elk genre\, een- of meerstemmi
 g\, aan bod en staat het plezier in zingen voor iedereen\ncentraal.\nNieuw
 sgierige thuisblijvers die ‘van hois eut’ een klein beetje toon\, maat
 \, maar niet hun\nmond kunnen houden\, zijn van harte uitgenodigd binnen t
 e stappen.
CATEGORIES:Koren,Muziek
LOCATION:De Knapzak\, Noordeinde 18\, Wormerveer\, 1521 PA\, Nederland
X-APPLE-STRUCTURED-LOCATION;VALUE=URI;X-ADDRESS=Noordeinde 18\, Wormerveer\
 , 1521 PA\, Nederland;X-APPLE-RADIUS=100;X-TITLE=De Knapzak:geo:0,0
END:VEVENT
BEGIN:VTIMEZONE
TZID:Europe/Amsterdam
X-LIC-LOCATION:Europe/Amsterdam
BEGIN:DAYLIGHT
DTSTART:20250330T030000
TZOFFSETFROM:+0100
TZOFFSETTO:+0200
TZNAME:CEST
END:DAYLIGHT
END:VTIMEZONE
END:VCALENDAR