BEGIN:VCALENDAR
VERSION:2.0
PRODID:-//wp-events-plugin.com//7.2.3.1//EN
TZID:Europe/Amsterdam
X-WR-TIMEZONE:Europe/Amsterdam
BEGIN:VEVENT
UID:39450@agenda-zaanstreek.nl
DTSTART;TZID=Europe/Amsterdam:20250720T120000
DTEND;TZID=Europe/Amsterdam:20250720T140000
DTSTAMP:20250703T095234Z
URL:https://agenda-zaanstreek.nl/events/zomer-mini-festival/
SUMMARY:Zomer! Mini-festival
DESCRIPTION:\n\n\n\n\n&nbsp\;\n\n\n\nJongwijs Westzaan - Restaurant &amp\; 
 Boutique Hotel\, J.J. Allanstraat\, Westzaan\, Nederland\n\n\n12:00 - 14:0
 0\n\n\n\ngratis\n\n\n\nWebsite van het evenement\n\n\n&nbsp\;\n\n\n\nFeest
 !\nVandaag wordt er gevierd wat een ge-wel-dig mooie smaken er te vinden z
 ijn in de directe omgeving. Als je weet waar je moet zoeken. Ontdek je mee
 ?! Op de mini-market in de tuin staan verschillende ambachtelijke kramen m
 et o.a. jagers\, boeren en bijzondere makers.\n\nBron: De Orkaan\n\n\n\n
CATEGORIES:Markt Braderie
LOCATION:Jongwijs\, J.J. Allanstraat 119-121\, Westzaan\, 1551 AD\, Westzaa
 n\, Nederland
X-APPLE-STRUCTURED-LOCATION;VALUE=URI;X-ADDRESS=J.J. Allanstraat 119-121\, 
 Westzaan\, 1551 AD\, Westzaan\, Nederland;X-APPLE-RADIUS=100;X-TITLE=Jongw
 ijs:geo:0,0
END:VEVENT
BEGIN:VTIMEZONE
TZID:Europe/Amsterdam
X-LIC-LOCATION:Europe/Amsterdam
BEGIN:DAYLIGHT
DTSTART:20250330T030000
TZOFFSETFROM:+0100
TZOFFSETTO:+0200
TZNAME:CEST
END:DAYLIGHT
END:VTIMEZONE
END:VCALENDAR