BEGIN:VCALENDAR
VERSION:2.0
PRODID:-//wp-events-plugin.com//7.2.3.1//EN
TZID:Europe/Amsterdam
X-WR-TIMEZONE:Europe/Amsterdam
BEGIN:VEVENT
UID:37093@agenda-zaanstreek.nl
DTSTART;TZID=Europe/Amsterdam:20250219T133000
DTEND;TZID=Europe/Amsterdam:20250219T163000
DTSTAMP:20250130T105637Z
URL:https://agenda-zaanstreek.nl/events/zelfverdedigingssport-experience/
SUMMARY:Zelfverdedigingssport Experience
DESCRIPTION:\n\n\n\n\n\nAlle kinderen van 6 t/m 17 jaar kunnen zich GRATIS 
 aanmelden voor de&nbsp\;ZAANSE ZELFVERDEDIGINGSSPORT EXPERIENCE.&nbsp\;\n\
 nEen middag waarop kinderen op een leuke\, speelse en leerzame manier\, ke
 nnismaken met 3 verschillende typen zelfverdedigingssporten.\nLocatie\n\n\
 n\nsporthal Zaanstad zuid\n\nKosten\nGratis\n\nLeeftijd\nVanaf 6 t/m 17 ja
 ar\n\n
CATEGORIES:Jeugd,Recreatiesport
LOCATION:Sporthal Zaanstad-Zuid\, De Weer 26\, Zaandam\, 1504 AH\, Nederlan
 d
X-APPLE-STRUCTURED-LOCATION;VALUE=URI;X-ADDRESS=De Weer 26\, Zaandam\, 1504
  AH\, Nederland;X-APPLE-RADIUS=100;X-TITLE=Sporthal Zaanstad-Zuid:geo:0,0
END:VEVENT
BEGIN:VTIMEZONE
TZID:Europe/Amsterdam
X-LIC-LOCATION:Europe/Amsterdam
BEGIN:STANDARD
DTSTART:20241027T020000
TZOFFSETFROM:+0200
TZOFFSETTO:+0100
TZNAME:CET
END:STANDARD
END:VTIMEZONE
END:VCALENDAR