BEGIN:VCALENDAR
VERSION:2.0
PRODID:-//wp-events-plugin.com//7.2.3.1//EN
TZID:Europe/Amsterdam
X-WR-TIMEZONE:Europe/Amsterdam
BEGIN:VEVENT
UID:37240@agenda-zaanstreek.nl
DTSTART;TZID=Europe/Amsterdam:20250208T100000
DTEND;TZID=Europe/Amsterdam:20250208T160000
DTSTAMP:20250206T101508Z
URL:https://agenda-zaanstreek.nl/events/zaterdag-actie-op-een-lege-maag-ku
 n-je-niet-leren/
SUMMARY:Zaterdag actie ‘Op een Lege maag kun je niet leren’
DESCRIPTION:&nbsp\;\n\nDe Voedselbank Zaanstreek vraagt zaterdag 8 februari
  in tien AH-winkels hulp van het winkelend publiek. Het is de week van de 
 actie: ‘Op een lege maag kun je niet leren’. Wie zaterdag boodschappen
  doet wordt gevraagd om ook enkele ontbijtproducten voor schoolgaande kind
 eren te kopen.\n\n\n\n\nDe voorraad houdbare ontbijtproducten is nagenoeg 
 op bij de Voedselbank Zaanstreek.&nbsp\;(Foto: aangeleverd)\n\nVoedselbank
  vraagt in tien AH-winkels ontbijt voor schoolgaande kinderen\nDe Voedselb
 anken houden jaarlijks de winkelactie ‘Op een lege maag kun je niet lere
 n’. Helaas gebeurt dat nog veel te vaak. Tienduizenden kinderen gaan dag
 elijks zonder ontbijt naar school. Uit het wekelijks levensmiddelenpakket 
 kunnen cliënten drie tot vier dagen een warme maaltijd bereiden\, inclusi
 ef lunch/ontbijt. Met de opbrengst van deze actiedag hoopt de Voedselbank 
 Zaanstreek het wekelijkse pakket voor cliënten met kinderen gericht aan t
 e kunnen vullen met dagelijks een goed ontbijt. Vorig jaar was de winterac
 tie – toen verdeeld over twee dagen - goed voor vijfhonderd kratten ontb
 ijtproducten.\nDit jaar is de inzamelingsactie alleen op zaterdag\, maar i
 n nagenoeg alle AH-winkels geografisch verdeeld over de hele Zaanstreek é
 n Oostzaan. Van noord naar zuid staan zaterdag van 10.00 tot 16.00 uur vri
 jwilligers klaar om levensmiddelen aan te nemen. In totaal zijn meer dan h
 onderd vrijwilligers actief. Bij de entree vragen zij klanten om ook enkel
 e producten voor de Voedselbank te kopen.\n\nActietafels\nOm het gemakkeli
 jk te maken hebben de deelnemende AH-supermarkten speciale actietafels ing
 ericht met geselecteerde ontbijtproducten. Daarnaast hebben vrijwilligers 
 lijstjes met gewenste artikelen.\n\n\n\n\n\n&nbsp\;\n\n\n\n\nDe Voedselban
 k Zaanstreek voorziet wekelijks 450 mensen van een aanvullend pakket leven
 smiddelen\, verdeeld over één- en tweepersoonshuishoudens en gezinnen. M
 et steun van de Voedselbank zouden zij nu elke dag van de week eten moeten
  hebben. Wie ook graag hulp van de Voedselbank Zaanstreek heeft kan telefo
 nisch een afspraak maken voor een intakegesprek: 075 – 6414 376 (maandag
 \, dinsdag en donderdag van 9.00 tot 12.00 uur).\n\nOndersteuning\nEenmaal
  bij de Voedselbank krijgen cliënten direct aanvullende ondersteuning\, z
 oals toegang tot de Kledingbank Zaanstad en de Stichting Leergeld. Op verj
 aardagen is er voor de kinderen een feestpakket van de stichting Jarige Jo
 b. Moeders met een baby krijgen wekelijks een speciaal zuigelingenpakket. 
 Cliënten worden ook geholpen met schoonmaakmiddelen en producten voor per
 soonlijke hygiëne.\n\n
CATEGORIES:Sociaal
LOCATION:Zaanstreek\, Diverse locaties\, Zaanstreek\, Nederland
X-APPLE-STRUCTURED-LOCATION;VALUE=URI;X-ADDRESS=Diverse locaties\, Zaanstre
 ek\, Nederland;X-APPLE-RADIUS=100;X-TITLE=Zaanstreek:geo:0,0
END:VEVENT
BEGIN:VTIMEZONE
TZID:Europe/Amsterdam
X-LIC-LOCATION:Europe/Amsterdam
BEGIN:STANDARD
DTSTART:20241027T020000
TZOFFSETFROM:+0200
TZOFFSETTO:+0100
TZNAME:CET
END:STANDARD
END:VTIMEZONE
END:VCALENDAR