BEGIN:VCALENDAR
VERSION:2.0
PRODID:-//wp-events-plugin.com//7.2.3.1//EN
TZID:Europe/Amsterdam
X-WR-TIMEZONE:Europe/Amsterdam
BEGIN:VEVENT
UID:37092@agenda-zaanstreek.nl
DTSTART;TZID=Europe/Amsterdam:20250215T100000
DTEND;TZID=Europe/Amsterdam:20250215T120000
DTSTAMP:20250130T105453Z
URL:https://agenda-zaanstreek.nl/events/zaanse-senioren-zwem-experience/
SUMMARY:Zaanse Senioren ZWEM Experience
DESCRIPTION:\n\n\n\n\n\nGezellig samen sporten is leuk voor iedereen\, in b
 eweging blijven is gezond en dit samen doen is ook nog eens gezellig. Doe 
 mee met:&nbsp\;Swim Fit 50+&nbsp\;…… voor de 50 plussers die graag ban
 enzwemmen met leeftijdsgenoten.\n\nTijdens de SENIOREN ZWEM EXPERIENCE kun
 nen 50 plussers (met zwemdiploma B) op zaterdag kennis maken met de zwemsp
 ort in zwembad De Slag.\n\nZV de Zaan\nLocatie:&nbsp\;zwembad De Slag\, Ko
 ningsgeelstraat 3\, Zaandam\n\n\n\n\nKosten\nGratis&nbsp\;\n\nDoelgroep\nS
 peciaal voor senioren\n\nOmschrijving doelgroep&nbsp\;\nsenioren\, ouderen
 \,\n\n
CATEGORIES:Recreatiesport
LOCATION:Zwembad De Slag\, Koningsgeelstraat 3\, Zaandam\, 1503 NA\, Nederl
 and
X-APPLE-STRUCTURED-LOCATION;VALUE=URI;X-ADDRESS=Koningsgeelstraat 3\, Zaand
 am\, 1503 NA\, Nederland;X-APPLE-RADIUS=100;X-TITLE=Zwembad De Slag:geo:0,
 0
END:VEVENT
BEGIN:VTIMEZONE
TZID:Europe/Amsterdam
X-LIC-LOCATION:Europe/Amsterdam
BEGIN:STANDARD
DTSTART:20241027T020000
TZOFFSETFROM:+0200
TZOFFSETTO:+0100
TZNAME:CET
END:STANDARD
END:VTIMEZONE
END:VCALENDAR