BEGIN:VCALENDAR
VERSION:2.0
PRODID:-//wp-events-plugin.com//7.2.3.1//EN
TZID:Europe/Amsterdam
X-WR-TIMEZONE:Europe/Amsterdam
BEGIN:VEVENT
UID:39449@agenda-zaanstreek.nl
DTSTART;TZID=Europe/Amsterdam:20250718T150000
DTEND;TZID=Europe/Amsterdam:20250718T170000
DTSTAMP:20250703T094505Z
URL:https://agenda-zaanstreek.nl/events/zaanse-regenboogborrel-op-het-terr
 as-van-de-bull/
SUMMARY:Zaanse Regenboogborrel op het terras van De Bull
DESCRIPTION:18 JULI (VR) - Zaanse Regenboogborrel op het terras van De Bull
 \, Westzijde 75\, 1506 ED Zaandam.&nbsp\;&nbsp\;Van 15.00 tot 17.00 uur. G
 ratis entree.
CATEGORIES:Horeca,Sociaal | LHBTQI-gemeenschap
LOCATION:Cultureel Centrum Bullekerk (Westzijderkerk)\, Westzijde 75\, Zaan
 dam\, 1506 ED\, Nederland
X-APPLE-STRUCTURED-LOCATION;VALUE=URI;X-ADDRESS=Westzijde 75\, Zaandam\, 15
 06 ED\, Nederland;X-APPLE-RADIUS=100;X-TITLE=Cultureel Centrum Bullekerk (
 Westzijderkerk):geo:0,0
END:VEVENT
BEGIN:VTIMEZONE
TZID:Europe/Amsterdam
X-LIC-LOCATION:Europe/Amsterdam
BEGIN:DAYLIGHT
DTSTART:20250330T030000
TZOFFSETFROM:+0100
TZOFFSETTO:+0200
TZNAME:CEST
END:DAYLIGHT
END:VTIMEZONE
END:VCALENDAR