BEGIN:VCALENDAR
VERSION:2.0
PRODID:-//wp-events-plugin.com//7.2.3.1//EN
TZID:Europe/Amsterdam
X-WR-TIMEZONE:Europe/Amsterdam
BEGIN:VEVENT
UID:38707@agenda-zaanstreek.nl
DTSTART;TZID=Europe/Amsterdam:20250516T150000
DTEND;TZID=Europe/Amsterdam:20250516T170000
DTSTAMP:20250515T091218Z
URL:https://agenda-zaanstreek.nl/events/zaanse-regenboogborrel-bij-cafe-de
 -slager/
SUMMARY:Zaanse Regenboogborrel bij café De Slager
DESCRIPTION:Vrijdag 16 mei is de Zaanse Regenboogborrel deze maand bij caf
 é De Slager\, Lagedijk 7-9\, 1544 BA Zaandijk . Van 15.00 tot 17.00 uur.\
 n\nDe Zaanse Regenboog organiseert samen met Het roze olifantje Dames dine
 r Club een maandelijkse Regenboogborrel. Deze rouleert op de 3e vrijdag va
 n de maand\, elke keer op een andere locatie in Zaanstad. Voor de gezellig
 heid en het is leuk om elkaar te ontmoeten en te leren kennen.\n\nMaar ook
  als je meer wilt weten over de regenboognota\, over uitgaan of heb je een
  andere vraag\, je bent van harte welkom\, ook als je gewoon een drankje w
 il drinken.\n\nCafé De Slager\n\nLagedijk 7-9\, Zaandijk\n\nGeen entreeko
 sten\n\nVan 15.00 tot 17.00 uur\n\nInfo: info@dezaanseregenboog.nl\n\nVoor
  overige activiteiten en info check de website: www.dezaanseregenboog.nl/a
 genda
CATEGORIES:Horeca,Sociaal | LHBTQI-gemeenschap
LOCATION:Café de Slager\, Lagedijk 7-9\, Zaandijk\, 1544 BA\, Nederland
X-APPLE-STRUCTURED-LOCATION;VALUE=URI;X-ADDRESS=Lagedijk 7-9\, Zaandijk\, 1
 544 BA\, Nederland;X-APPLE-RADIUS=100;X-TITLE=Café de Slager:geo:0,0
END:VEVENT
BEGIN:VTIMEZONE
TZID:Europe/Amsterdam
X-LIC-LOCATION:Europe/Amsterdam
BEGIN:DAYLIGHT
DTSTART:20250330T030000
TZOFFSETFROM:+0100
TZOFFSETTO:+0200
TZNAME:CEST
END:DAYLIGHT
END:VTIMEZONE
END:VCALENDAR