BEGIN:VCALENDAR
VERSION:2.0
PRODID:-//wp-events-plugin.com//7.2.3.1//EN
TZID:Europe/Amsterdam
X-WR-TIMEZONE:Europe/Amsterdam
BEGIN:VEVENT
UID:37094@agenda-zaanstreek.nl
DTSTART;TZID=Europe/Amsterdam:20250221T103000
DTEND;TZID=Europe/Amsterdam:20250221T120000
DTSTAMP:20250130T110036Z
URL:https://agenda-zaanstreek.nl/events/zaanse-mini-voorjaars-judo-experie
 nce/
SUMMARY:ZAANSE MINI VOORJaars judo experience
DESCRIPTION:\n\nvrijdag 21 februari 2025 \, 10:30 - 12:00 uur\n\n\n\n\n\n\n
 \nPeuters en kleuters van 2\, 3\, 4 en 5 jaar nodigen wij uit voor de&nbsp
 \;ZAANSE MINI VOORJAARS JUDO&nbsp\;EXPERIENCE. Kom een judo les volgen bij
  sportschool Salomons in Zaandam. Mee doen aan de&nbsp\;GRATIS&nbsp\;MINI 
 experience is goed voor de motoriek\, ontwikkeling en persoonlijke groei. 
 In groepen van maximaal 15 kinderen gaan de kinderen kennismaken met de ju
 dosport.\n\nLocatie:&nbsp\;Sportschool Salomons\, Blooksven 10\, Zaandam\n
 \n\n\n\nLocatie\nsportschool Salomons\n\n\n\nKosten\nGratis\n\n\n\nLeeftij
 d\nVanaf 2 t/m 5 jaar\n\n\n\nOmschrijving doelgroep&nbsp\;\npeuters\, kleu
 ters\, jeugd\, kleine kinderen\n\n\n\n
CATEGORIES:Jeugd,Recreatiesport
LOCATION:Sportschool Salomons\, Blooksven 10\, Zaandam\, Nederland
X-APPLE-STRUCTURED-LOCATION;VALUE=URI;X-ADDRESS=Blooksven 10\, Zaandam\, Ne
 derland;X-APPLE-RADIUS=100;X-TITLE=Sportschool Salomons:geo:0,0
END:VEVENT
BEGIN:VTIMEZONE
TZID:Europe/Amsterdam
X-LIC-LOCATION:Europe/Amsterdam
BEGIN:STANDARD
DTSTART:20241027T020000
TZOFFSETFROM:+0200
TZOFFSETTO:+0100
TZNAME:CET
END:STANDARD
END:VTIMEZONE
END:VCALENDAR