BEGIN:VCALENDAR
VERSION:2.0
PRODID:-//wp-events-plugin.com//7.2.3.1//EN
TZID:Europe/Amsterdam
X-WR-TIMEZONE:Europe/Amsterdam
BEGIN:VEVENT
UID:37085@agenda-zaanstreek.nl
DTSTART;TZID=Europe/Amsterdam:20250412T123000
DTEND;TZID=Europe/Amsterdam:20250412T170000
DTSTAMP:20250130T102511Z
URL:https://agenda-zaanstreek.nl/events/zaanse-geschiedenismarkt-uitreikin
 g-bredehofprijs/
SUMMARY:Zaanse Geschiedenismarkt - Uitreiking Bredehofprijs
DESCRIPTION:Op zaterdag 12 april om 16.00 uur maakt de jury de winnaar beke
 nd op de\nGeschiedenismarkt in de Bullekerk. Deze markt is gratis toeganke
 lijk voor alle\nbelangstellenden en biedt een gevarieerd middagprogramma v
 oor iedereen die\ngeïnteresseerd is in de Zaanse geschiedenis. Er zijn kr
 aampjes van de historische\nverenigingen\, Zaanse historische auteurs pres
 enteren hun boeken en het publiek kan allerlei\nkorte workshops volgen die
  te maken hebben met onderzoeken en schrijven.\n\nClick to unmute\n00:3
 8\nVoor meer informatie: Geschiedenismarkt 12 april 2025 | Bredenhofsticht
 ing
CATEGORIES:Erfgoed
LOCATION:Cultureel Centrum Bullekerk (Westzijderkerk)\, Westzijde 75\, Zaan
 dam\, 1506 ED\, Nederland
X-APPLE-STRUCTURED-LOCATION;VALUE=URI;X-ADDRESS=Westzijde 75\, Zaandam\, 15
 06 ED\, Nederland;X-APPLE-RADIUS=100;X-TITLE=Cultureel Centrum Bullekerk (
 Westzijderkerk):geo:0,0
END:VEVENT
BEGIN:VTIMEZONE
TZID:Europe/Amsterdam
X-LIC-LOCATION:Europe/Amsterdam
BEGIN:DAYLIGHT
DTSTART:20250330T030000
TZOFFSETFROM:+0100
TZOFFSETTO:+0200
TZNAME:CEST
END:DAYLIGHT
END:VTIMEZONE
END:VCALENDAR