BEGIN:VCALENDAR
VERSION:2.0
PRODID:-//wp-events-plugin.com//7.2.3.1//EN
TZID:Europe/Amsterdam
X-WR-TIMEZONE:Europe/Amsterdam
BEGIN:VEVENT
UID:38206@agenda-zaanstreek.nl
DTSTART;TZID=Europe/Amsterdam:20250517T130000
DTEND;TZID=Europe/Amsterdam:20250517T130000
DTSTAMP:20250410T101939Z
URL:https://agenda-zaanstreek.nl/events/zaans-zilver-carrousel/
SUMMARY:Zaans Zilver – Carrousel
DESCRIPTION:\n\n\n\n\n\n\n\n\n\n\n\n\n\n\n\n\n\n\n\n\n\n\n\n\nDe solisten e
 n het koor van Zaans Zilver treden zaterdagmiddag 17 mei op in de Bulleker
 k! Dit keer met ‘Carrousel’\, een kleurrijke en levendige liedjesvoors
 telling vol nostalgie\, muziek en beweging.\n\nHet Zaans Zilver project\, 
 &nbsp\;met solisten en koor\, &nbsp\;brengt een verzameling liedjes die di
 ep van binnen raken\, een liedjescarrousel waarin klassiekers van onder an
 deren Robert Long en Rob de Nijs de revue passeren\, evenals liedjes die d
 e deelnemers persoonlijk aan het hart liggen.\n\nIn een café chantant-ach
 tige setting vieren de artiesten het leven en delen ze hun passie voor muz
 iek\, met als thema de beweging van het leven. Dit is een optreden dat de 
 kracht van muziek en de schoonheid van ervaring benadrukt – een waar fee
 st voor het publiek.\n\nDeze voorstelling biedt een mooie mix van nostalgi
 e en verrassing\, waar je je meegenomen voelt op een reis door de muziek v
 an vroeger.\n\nNooit te oud om te zingen\nZaans Zilver is een Open Podium 
 project voor 60-plustalent op het gebied van theater\, zang en muziek. All
 e deelnemers brengen hun passie naar voren en tonen aan dat je nooit te ou
 d bent om te zingen. Met herkenbare liedjes die troost en vreugde brengen\
 , laat Zaans Zilver zien hoe de schoonheid van levenservaring nog steeds s
 prankelt. Kom en laat je inspireren door de kracht van muziek en de energi
 e van de oudere generatie.\n\nPiano begeleiding:&nbsp\;Rob Stoop\nCoaching
  solisten: Liekje Welten\nDirigent koor:&nbsp\;Daphne Groot\n\nDeuren open
 : 12:30 uur\nAanvang: 13:00 uur\n\nTickets: € 15 (+ € 1\,00 reserverin
 gskosten)\n\n\n\n\n\n\n\n\n\n\n\n\n\n\n\n\n\n\n\n\n\n\n\nKoop tickets\n\n\
 n\n\n\n\n&nbsp\;\n\n\n\n\n\n\n\n\n\n&nbsp\;\n\n\n\n\n\n\n\n\n
CATEGORIES:Koren,Muziek
LOCATION:Cultureel Centrum Bullekerk (Westzijderkerk)\, Westzijde 75\, Zaan
 dam\, 1506 ED\, Nederland
X-APPLE-STRUCTURED-LOCATION;VALUE=URI;X-ADDRESS=Westzijde 75\, Zaandam\, 15
 06 ED\, Nederland;X-APPLE-RADIUS=100;X-TITLE=Cultureel Centrum Bullekerk (
 Westzijderkerk):geo:0,0
END:VEVENT
BEGIN:VTIMEZONE
TZID:Europe/Amsterdam
X-LIC-LOCATION:Europe/Amsterdam
BEGIN:DAYLIGHT
DTSTART:20250330T030000
TZOFFSETFROM:+0100
TZOFFSETTO:+0200
TZNAME:CEST
END:DAYLIGHT
END:VTIMEZONE
END:VCALENDAR