BEGIN:VCALENDAR
VERSION:2.0
PRODID:-//wp-events-plugin.com//7.2.3.1//EN
TZID:Europe/Amsterdam
X-WR-TIMEZONE:Europe/Amsterdam
BEGIN:VEVENT
UID:37102@agenda-zaanstreek.nl
DTSTART;TZID=Europe/Amsterdam:20250208T210000
DTEND;TZID=Europe/Amsterdam:20250208T210000
DTSTAMP:20250130T113447Z
URL:https://agenda-zaanstreek.nl/events/zaanpreski-tropical-party/
SUMMARY:Zaanpreski Tropical Party
DESCRIPTION:\n\n\n\n\n\nEn het jaar is nog maar net begonnen. Zaanpreski or
 ganiseert weer een groot feest in Batavia in Wormer!\n\n\n\n\n\nMet dit fe
 est wordt\, zoals altijd\, geld ingezameld voor een goed doel.\nDe Ronde T
 afel kiest nu voor Stichting Don.\n\nStichting DON\nDit jaar wordt het gel
 d ingezameld voor Stichting DON\, een organisatie die zich inzet voor de s
 trijd tegen diabetes. Zij streven naar volledige genezing van diabetes typ
 e 1. Een ticket voor dit feest kost € 32\,50. Elke euro van de opbrengst
  gaat direct naar de bekende laboratoria wereldwijd. De strijd tegen diabe
 tes ligt een aantal leden nauw aan het hart\, juist omdat ze van dichtbij 
 zien wat deze ziekte betekent. Daarom koos De Ronde Tafel ervoor om deze e
 ditie Stichting DON te steunen.\n\n\n\n\nKoop hier je tickets\n\n\n\n\n\n&
 nbsp\;\n
CATEGORIES:Horeca,Muziek
LOCATION:Batavia 1894\, Veerdijk 39\, Wormer\, 1531 MS\, Nederland
X-APPLE-STRUCTURED-LOCATION;VALUE=URI;X-ADDRESS=Veerdijk 39\, Wormer\, 1531
  MS\, Nederland;X-APPLE-RADIUS=100;X-TITLE=Batavia 1894:geo:0,0
END:VEVENT
BEGIN:VTIMEZONE
TZID:Europe/Amsterdam
X-LIC-LOCATION:Europe/Amsterdam
BEGIN:STANDARD
DTSTART:20241027T020000
TZOFFSETFROM:+0200
TZOFFSETTO:+0100
TZNAME:CET
END:STANDARD
END:VTIMEZONE
END:VCALENDAR