BEGIN:VCALENDAR
VERSION:2.0
PRODID:-//wp-events-plugin.com//7.2.3.1//EN
TZID:Europe/Amsterdam
X-WR-TIMEZONE:Europe/Amsterdam
BEGIN:VEVENT
UID:37078@agenda-zaanstreek.nl
DTSTART;TZID=Europe/Amsterdam:20250216T150000
DTEND;TZID=Europe/Amsterdam:20250216T200000
DTSTAMP:20250130T090100Z
URL:https://agenda-zaanstreek.nl/events/zaanfolk-winterfestival-2025/
SUMMARY:ZaanFolk Winterfestival 2025!
DESCRIPTION:Na het grote succes van het eerste ZaanFolk Winterfestival in 2
 024\, organiseert Stichting ZaanFolk in samenwerking met De Groote Weiver 
 het ZaanFolk Winterfestival 2025! Het festival vindt plaats op zondag 16 f
 ebruari van 15:00 tot 20:00 uur in De Groote Weiver\, Industrieweg 1a in W
 ormerveer.\n\nDe entree bedraagt €5\,00 (als je de ZaanFolk Festival CD 
 erbij neemt betaal je €10\,00).\n\nZes muziekgroepen uit de Zaanstreek e
 n omgeving (Amsterdam\, Haarlem) verzorgen een rijk en gevarieerd programm
 a van diverse genres binnen de folk\, zoals Ierse folk\, americana\, count
 ry en singer-songwriter. Je hoort invloeden uit landen als Ierland\, Spanj
 e\, Amerika\, Frankrijk\, Canada en Mexico. Een middag vol warme klanken i
 s precies wat deze koude februarizondag nodig heeft!\n\nHet programma is a
 ls volgt:\n\n15:00-15:30 uur:&nbsp\;Country Cousins&nbsp\;(café)\nDit Zaa
 nse trio (zang\, gitaar en banjo) heeft zijn oorsprong in het spelen op fo
 lksessies. Bij het uitbreken van de coronacrisis\, toen sessies niet meer 
 toegestaan waren\, besloten de muzikanten om\, tegen de regels in\, elke z
 ondag samen te komen om muziek te maken. Al drie keer stonden ze op het Za
 anFolk Festival en nu zijn ze te horen op het ZaanFolk Winterfestival\, wa
 ar ze met hun repertoire van country\, folk en americana de dag muzikaal z
 ullen openen.\n\n15:45-16:15 uur:&nbsp\;Vogel &amp\; Kaspers&nbsp\;(café)
 \nDe Amsterdamse Annette Vogel (zang\, gitaar) is een singer-songwriter di
 e hoorbaar geïnspireerd is door Engelse en Amerikaanse folk. Mario Kasper
 s (bas) en Vogel spelen al tien jaar samen. Na een tour in Amerika\, waar 
 ze onder meer in New York\, Baltimore en Nashville hebben gespeeld\, is he
 t duo sinds 2019 lid van het netwerk van de “Musiciens du Metro Parisien
 ne” en zijn ze regelmatig te horen in de Parijse metro. Vaak spelen ze i
 n grote steden in Frankrijk\, maar nu staan ze op het ZaanFolk Winterfesti
 val.\n\n16:30-17:15 uur:&nbsp\;Bonny Vida&nbsp\;(zaal)\nBonny Vida is een 
 band die al 25 jaar deel uitmaakt van de Zaanse folkmuziek scene. De bandn
 aam en de muziek zijn deels Spaans en deels Iers en staan voor het goede\,
  zonnige leven! Hun Ierse muziek zit vol gezelligheid en warmte\, de Spaan
 se muziek vol temperament en uitdagende ritmes.\nDe band trad voor het laa
 tst in voltallige bezetting op bij Zaanfolk 2023. Daarna is zanger/gitaris
 t Marc van den Berg noodgedwongen gestopt. Overige bandleden Chris Schilde
 r\, Guido Brouwer en Igor Verettas bleven muziek maken. Met de toetreding 
 van de zangeressen Rose-Anne Scherpenzeel en Jantien Rentenaar was de band
  herboren.\nDit optreden in de Groote Weiver is het allerlaatste onder de 
 naam Bonny Vida\, Daarna gaat de band door met de nieuwe bandleden onder e
 en nieuwe naam\, met een vernieuwd repertoire. Verwacht een zeer afwissele
 nd optreden met voor de laatste keer Ierse meezingers\, afgewisseld met Sp
 aanse ritmes en daarbij een doorkijkje naar de nieuwe muziekstijlen. Een d
 oorstartconcert van vertrouwde en nieuwe gezichten van Bonny Vida bij Zaan
 folk!\n\n17:30-18:00 uur:&nbsp\;Jaco &amp\; René&nbsp\;(café)\nJaco Bakk
 er (viool\, zang) en René Lute (gitaar\, mandoline\, zang) kennen elkaar 
 al geruime tijd. Ze speelden jaren samen in de groep Kavel 57\, en tegenwo
 ordig maken ze beiden deel uit van de band The Guinness Piggies. Ze brenge
 n een merendeels Iers repertoire\, dat toch weer andere accenten meekrijgt
  dan we kennen van de hierboven genoemde bands.\n\n18.15 – 18.45 uur:&nb
 sp\;’t Gevolg&nbsp\;(café)\nGebruikmakend van een breed arsenaal aan in
 strumenten (zoals viool\, fluit\, trekharmonica\, gitaar en mandoline)\, n
 eemt ’t Gevolg de luisteraar mee op een muzikale wereldreis: uitgaande v
 an traditionele muziek uit landen als Mexico\, Canada\, Ierland en Frankri
 jk verrassen de drie muzikanten hun publiek met hun eigen arrangementen. D
 oor gebruik te maken van tegenstemmen\, onverwachte ritmische effecten en 
 spanningsopbouw\, verrijken zij de liederen en brengen ze een gevarieerd p
 rogramma.\n\n19:00 – 20:00 uur:&nbsp\;Vakgroep Sfeerbeheer&nbsp\;(zaal)\
 nDe uit Haarlem afkomstige band Vakgroep Sfeerbeheer (zang\, trompet\, caj
 on\, gitaar en bas) is van alle markten thuis en is uitermate sterk in de 
 interactie met het publiek. Van intiem en sfeervol tot uitbundig en dynami
 sch\, Vakgroep Sfeerbeheer zal een spetterende afsluiter zijn van het Zaan
 Folk Winterfestival 2025.\n\n\nMeer informatie over Stichting ZaanFolk op:
 \nhttps://www.zaanfolk.nl\nhttp://www.facebook.com/ZaanFolkMuziek
CATEGORIES:Muziek
LOCATION:De Groote Weiver\, Industrieweg 1a\, Wormerveer\, 1521 NA\, Wormer
 veer\, Nederland
X-APPLE-STRUCTURED-LOCATION;VALUE=URI;X-ADDRESS=Industrieweg 1a\, Wormervee
 r\, 1521 NA\, Wormerveer\, Nederland;X-APPLE-RADIUS=100;X-TITLE=De Groote 
 Weiver:geo:0,0
END:VEVENT
BEGIN:VTIMEZONE
TZID:Europe/Amsterdam
X-LIC-LOCATION:Europe/Amsterdam
BEGIN:STANDARD
DTSTART:20241027T020000
TZOFFSETFROM:+0200
TZOFFSETTO:+0100
TZNAME:CET
END:STANDARD
END:VTIMEZONE
END:VCALENDAR