BEGIN:VCALENDAR
VERSION:2.0
PRODID:-//wp-events-plugin.com//7.2.3.1//EN
TZID:Europe/Amsterdam
X-WR-TIMEZONE:Europe/Amsterdam
BEGIN:VEVENT
UID:37077@agenda-zaanstreek.nl
DTSTART;TZID=Europe/Amsterdam:20250202T163000
DTEND;TZID=Europe/Amsterdam:20250202T163000
DTSTAMP:20250130T085950Z
URL:https://agenda-zaanstreek.nl/events/zaanfolk-sessie-met-singer-songwri
 ter-rob-zwart/
SUMMARY:ZaanFolk Sessie met singer-songwriter Rob Zwart
DESCRIPTION:&nbsp\;\n\nEr is weer ZaanFolk Sessie op zondag 2 februari 2025
  vanaf 16.30 uur in Café de Melterij. Rond 18.00 uur is het tijd voor de 
 soepsessie. Dit keer een optreden van de Wormerveerse singer-songwriter Ro
 b Zwart. Hij wordt muzikaal ondersteund door percussionist Richrad van Twi
 ller. Het optreden duurt een half uur tot drie kwartier.\n\nTijdens ZaanFo
 lk Sessie scharen muzikanten zich in Café de Melterij rondom de lange taf
 el om een breed repertoire aan liederen en melodieën te spelen. Er wordt 
 door de aanwezige muzikanten ongedwongen samengespeeld en gezongen. Iedere
 en mag daarbij aanschuiven\, ervaren of minder ervaren. Iers\, Amerikaans\
 , singer-songwriter\, Nederlands: alles kan voorbij komen. Ook als je gewo
 on één nummer wilt zingen of spelen dat kan dat. Wil je liever luisteren
  of meezingen vanaf de barkruk? Dat is natuurlijk ook prima. Samen zetten 
 we de sfeer neer!
CATEGORIES:Horeca,Muziek
LOCATION:Café De Melterij\, Wandelweg 76\, Wormerveer\, 1521 AJ\, Nederlan
 d
X-APPLE-STRUCTURED-LOCATION;VALUE=URI;X-ADDRESS=Wandelweg 76\, Wormerveer\,
  1521 AJ\, Nederland;X-APPLE-RADIUS=100;X-TITLE=Café De Melterij:geo:0,0
END:VEVENT
BEGIN:VTIMEZONE
TZID:Europe/Amsterdam
X-LIC-LOCATION:Europe/Amsterdam
BEGIN:STANDARD
DTSTART:20241027T020000
TZOFFSETFROM:+0200
TZOFFSETTO:+0100
TZNAME:CET
END:STANDARD
END:VTIMEZONE
END:VCALENDAR