BEGIN:VCALENDAR
VERSION:2.0
PRODID:-//wp-events-plugin.com//7.2.3.1//EN
TZID:Europe/Amsterdam
X-WR-TIMEZONE:Europe/Amsterdam
BEGIN:VEVENT
UID:38095@agenda-zaanstreek.nl
DTSTART;TZID=Europe/Amsterdam:20250406T163000
DTEND;TZID=Europe/Amsterdam:20250406T163000
DTSTAMP:20250403T090804Z
URL:https://agenda-zaanstreek.nl/events/zaanfolk-sessie-decade-later-doet-
 soepsessie/
SUMMARY:ZaanFolk Sessie - Decade Later doet soepsessie
DESCRIPTION:De volgende ZaanFolk Sessie vindt plaats in Café de Melterij o
 p zondag 6 april en begint om 16.30 uur. De soepsessie (oftewel een kort o
 ptreden van een artiest) wordt verzorgd rond de klok van 18.00 uur door De
 cade Later\, een folky duo bestaande uit Sjabbo Schaveling (zang\, gitaar)
  en Rob Bakker (zang\, charango). Het optreden duurt een half uur tot drie
  kwartier.\n\nTijdens de ZaanFolk Sessie scharen muzikanten zich in Café 
 de Melterij rondom de lange tafel om een breed repertoire aan liederen en 
 melodieën te spelen. Er wordt door de aanwezige muzikanten ongedwongen ge
 zongen en samengespeeld. Iedereen mag daarbij aanschuiven\, ervaren of min
 der ervaren. Iers\, Amerikaans\, singer-songwriter\, Nederlands: alles kan
  voorbij komen.\n\n\n\nOok als je gewoon één nummer wilt zingen of spele
 n dan kan dat. Wil je liever luisteren of meezingen vanaf de barkruk? Dat 
 is natuurlijk ook prima. Samen maken we het gezellig!\n\n\n
CATEGORIES:Horeca,Muziek
LOCATION:Café De Melterij\, Wandelweg 76\, Wormerveer\, 1521 AJ\, Nederlan
 d
X-APPLE-STRUCTURED-LOCATION;VALUE=URI;X-ADDRESS=Wandelweg 76\, Wormerveer\,
  1521 AJ\, Nederland;X-APPLE-RADIUS=100;X-TITLE=Café De Melterij:geo:0,0
END:VEVENT
BEGIN:VTIMEZONE
TZID:Europe/Amsterdam
X-LIC-LOCATION:Europe/Amsterdam
BEGIN:DAYLIGHT
DTSTART:20250330T030000
TZOFFSETFROM:+0100
TZOFFSETTO:+0200
TZNAME:CEST
END:DAYLIGHT
END:VTIMEZONE
END:VCALENDAR