BEGIN:VCALENDAR
VERSION:2.0
PRODID:-//wp-events-plugin.com//7.2.3.1//EN
TZID:Europe/Amsterdam
X-WR-TIMEZONE:Europe/Amsterdam
BEGIN:VEVENT
UID:40868@agenda-zaanstreek.nl
DTSTART;TZID=Europe/Amsterdam:20251219T170000
DTEND;TZID=Europe/Amsterdam:20251219T193000
DTSTAMP:20251211T100808Z
URL:https://agenda-zaanstreek.nl/events/zaandam-schittert-tijdens-tweede-k
 erstlichtjeswandeling/
SUMMARY:Zaandam schittert tijdens tweede Kerstlichtjeswandeling
DESCRIPTION:Bewoners van Oud-West en de Russische Buurt versieren hun huize
 n feestelijk voor de tweede editie van de Zaanse Kerstlichtjeswandeling op
  vrijdag 19 december. Iedereen kan gratis meelopen en genieten van warme c
 hocolademelk en glühwein bij lokale ondernemers.\n\n\nLoop je mee tijdens
  de Zaanse Kerstlichtjeswandeling?&nbsp\;(Foto: (Archieffoto: Dirk Karten)
 )\n\n&nbsp\;\nDe wandeling start vanaf de schemering en eindigt bij de buu
 rttuin\, waar marshmallows geroosterd kunnen worden. Deelnemers kunnen op 
 elk punt van de route beginnen. De routekaart is online beschikbaar en op 
 papier af te halen bij verschillende punten in de wijk\, zoals de biblioth
 eek en Verskade.\nRoute al eerder te lopen\nVanaf 9 december kunnen wandel
 aars de route al op eigen gelegenheid lopen. Op 19 december blijven lokale
  ondernemers zoals Zaansch Faam\, Lariekoek en Younithy speciaal langer op
 en tot ongeveer 19.30 uur.\nStemmen op mooist versierde huis\nVanaf 15 dec
 ember kunnen mensen via Instagram @kerstlichtjeswandeling stemmen op het m
 ooist versierde huis. De winnaar wordt op 20 december bekendgemaakt en ont
 vangt een Buter-taart.\n\n
LOCATION:Zaandam\, -\, -\, Nederland
X-APPLE-STRUCTURED-LOCATION;VALUE=URI;X-ADDRESS=-\, -\, Nederland;X-APPLE-R
 ADIUS=100;X-TITLE=Zaandam:geo:0,0
END:VEVENT
BEGIN:VTIMEZONE
TZID:Europe/Amsterdam
X-LIC-LOCATION:Europe/Amsterdam
BEGIN:STANDARD
DTSTART:20251026T020000
TZOFFSETFROM:+0200
TZOFFSETTO:+0100
TZNAME:CET
END:STANDARD
END:VTIMEZONE
END:VCALENDAR