BEGIN:VCALENDAR
VERSION:2.0
PRODID:-//wp-events-plugin.com//7.2.3.1//EN
TZID:Europe/Amsterdam
X-WR-TIMEZONE:Europe/Amsterdam
BEGIN:VEVENT
UID:40589@agenda-zaanstreek.nl
DTSTART;TZID=Europe/Amsterdam:20251113T190000
DTEND;TZID=Europe/Amsterdam:20251113T200000
DTSTAMP:20251106T105230Z
URL:https://agenda-zaanstreek.nl/events/workshop-yin-yoga/
SUMMARY:Workshop YIN YOGA
DESCRIPTION:donderdag 13 november 2025 \, 19:00 - 20:00 uur\n&nbsp\;\n\nTij
 dens deze workshop nemen we de tijd om te vertragen\, te ademen en spannin
 g lost te laten. Door langer in een houding te blijven strek je het dieper
  gelegen bindweefsel. Zo opnstaat er ruimte in je lichaam &amp\; rust in j
 e hoofd.\n\n\nKosten\nGratis\n\nKosten toelichting\nEerste les gratis\, da
 arna 3\,50 per les\n\nDoelgroep\nIedereen\n\nOmschrijving doelgroep&nbsp\;
 \nelk lichaam\, elke leeftijd\n\n
CATEGORIES:Spiritueel
LOCATION:Wijkcentrum Dirk Prins\, A.G. Verbeekstraat 35\, Zaandam\, 1501 RM
 \, Nederland
X-APPLE-STRUCTURED-LOCATION;VALUE=URI;X-ADDRESS=A.G. Verbeekstraat 35\, Zaa
 ndam\, 1501 RM\, Nederland;X-APPLE-RADIUS=100;X-TITLE=Wijkcentrum Dirk Pri
 ns:geo:0,0
END:VEVENT
BEGIN:VTIMEZONE
TZID:Europe/Amsterdam
X-LIC-LOCATION:Europe/Amsterdam
BEGIN:STANDARD
DTSTART:20251026T020000
TZOFFSETFROM:+0200
TZOFFSETTO:+0100
TZNAME:CET
END:STANDARD
END:VTIMEZONE
END:VCALENDAR