BEGIN:VCALENDAR
VERSION:2.0
PRODID:-//wp-events-plugin.com//7.2.3.1//EN
TZID:Europe/Amsterdam
X-WR-TIMEZONE:Europe/Amsterdam
BEGIN:VEVENT
UID:39848@agenda-zaanstreek.nl
DTSTART;TZID=Europe/Amsterdam:20251009T190000
DTEND;TZID=Europe/Amsterdam:20251009T190000
DTSTAMP:20250806T193039Z
URL:https://agenda-zaanstreek.nl/events/workshop-tekenen-op-gekleurd-papie
 r-met-houtskool-en-wit-krijt/
SUMMARY:Workshop Tekenen op gekleurd papier met houtskool en wit krijt
DESCRIPTION:\nTekenen op gekleurd papier met houtskool en wit krijt\n\n\nWi
 l je ontdekken hoe je met minimale middelen maximale expressie kunt bereik
 en? In deze workshop leer je hoe je krachtige en sfeervolle tekeningen maa
 kt met houtskool en wit krijt op gekleurd papier. Een ideale techniek om t
 e spelen met licht\, donker en diepte!\n\n\nMeer info en aanmelden: [https
 ://indehogehoed.nl/workshop-tekenen-op-gekleurd-papier/](https://indehogeh
 oed.nl/workshop-tekenen-op-gekleurd.../...)\n\n&nbsp\;
CATEGORIES:Cursus Workshop
LOCATION:Atelier Fiona Hoogmoed in de Hoge Hoed\, Lagedijk 3\, Koog aan de 
 Zaan\, 1541 KA\, Nederland
X-APPLE-STRUCTURED-LOCATION;VALUE=URI;X-ADDRESS=Lagedijk 3\, Koog aan de Za
 an\, 1541 KA\, Nederland;X-APPLE-RADIUS=100;X-TITLE=Atelier Fiona Hoogmoed
  in de Hoge Hoed:geo:0,0
END:VEVENT
BEGIN:VTIMEZONE
TZID:Europe/Amsterdam
X-LIC-LOCATION:Europe/Amsterdam
BEGIN:DAYLIGHT
DTSTART:20250330T030000
TZOFFSETFROM:+0100
TZOFFSETTO:+0200
TZNAME:CEST
END:DAYLIGHT
END:VTIMEZONE
END:VCALENDAR