BEGIN:VCALENDAR
VERSION:2.0
PRODID:-//wp-events-plugin.com//7.2.3.1//EN
TZID:Europe/Amsterdam
X-WR-TIMEZONE:Europe/Amsterdam
BEGIN:VEVENT
UID:40991@agenda-zaanstreek.nl
DTSTART;TZID=Europe/Amsterdam:20260116T140000
DTEND;TZID=Europe/Amsterdam:20260116T140000
DTSTAMP:20260112T201611Z
URL:https://agenda-zaanstreek.nl/events/workshop-perspectief-tekenen/
SUMMARY:Workshop Perspectief Tekenen
DESCRIPTION:WORKSHOP PERSPECTIEF TEKENENVrijdag 16 januari 14.00uLeer diept
 e\, ruimte en realisme creëren in je tekeningen!Altijd al willen weten ho
 e je een straat\, kamer of gebouw écht ruimtelijk tekent? In deze toegank
 elijke workshop leer je stap voor stap de basis van 1- en 2-punts perspect
 ief. Je ontdekt hoe je met eenvoudige lijnen en verdwijnpunten overtuigend
 e diepte kunt maken — van een simpele doos tot een realistische stadsstr
 aat. In deze workshop legt Zaanse kunstenaar en meester van het realisme&n
 bsp\;Rob de Vries\, Realistic Art&nbsp\;het haarfijn uit.Info en aanmelden
 :&nbsp\;https://www.indehogehoed.nl/workshop-perspectief-tekenen
CATEGORIES:Cursus Workshop
LOCATION:Atelier Fiona Hoogmoed in de Hoge Hoed\, Lagedijk 3\, Koog aan de 
 Zaan\, 1541 KA\, Nederland
X-APPLE-STRUCTURED-LOCATION;VALUE=URI;X-ADDRESS=Lagedijk 3\, Koog aan de Za
 an\, 1541 KA\, Nederland;X-APPLE-RADIUS=100;X-TITLE=Atelier Fiona Hoogmoed
  in de Hoge Hoed:geo:0,0
END:VEVENT
BEGIN:VTIMEZONE
TZID:Europe/Amsterdam
X-LIC-LOCATION:Europe/Amsterdam
BEGIN:STANDARD
DTSTART:20251026T020000
TZOFFSETFROM:+0200
TZOFFSETTO:+0100
TZNAME:CET
END:STANDARD
END:VTIMEZONE
END:VCALENDAR