BEGIN:VCALENDAR
VERSION:2.0
PRODID:-//wp-events-plugin.com//7.2.3.1//EN
TZID:Europe/Amsterdam
X-WR-TIMEZONE:Europe/Amsterdam
BEGIN:VEVENT
UID:40885@agenda-zaanstreek.nl
DTSTART;TZID=Europe/Amsterdam:20260208T133000
DTEND;TZID=Europe/Amsterdam:20260208T133000
DTSTAMP:20251211T201240Z
URL:https://agenda-zaanstreek.nl/events/workshop-paardenhaar-inbranden-in-
 keramiek/
SUMMARY:Workshop paardenhaar inbranden in keramiek
DESCRIPTION:Het verhaal\nIn de creatieve studio van RAKU Experience in Amst
 erdam (Wormer) volg je nu de bijzondere workshop paardenhaar inbranden in 
 keramiek. Een unieke ervaring waarin ambacht\, emotie en creativiteit same
 nkomen.\nBij binnenkomst staat er een tafel vol keramische items voor je k
 laar. Je kiest het stuk dat jouw verhaal gaat dragen: een elegant vaasje\,
  een sfeervolle kaarsenstandaard of een mooi schaaltje. Zodra iedereen zij
 n keuze heeft gemaakt\, gaan de werken de keramiekoven in.\nIn de oven wor
 den ze verhit tot ongeveer 950 graden. Wanneer jouw werk er gloeiend heet 
 uitkomt\, begint het echte moment van magie.\nMet een plukje paardenhaar 
 – misschien van je eigen paard – raak je het hete oppervlak aan. Het h
 aar krult meteen\, verschroeit en laat diepe\, zwarte lijnen achter. Ieder
 e aanraking vormt een uniek\, organisch patroon. Zo ontstaat er een persoo
 nlijk kunstwerk\, een tastbare herinnering aan jouw dierbare huisdier.\nHe
 b je geen eigen paard? Geen enkel probleem. Er is altijd paardenhaar aanwe
 zig\, zodat iedereen deze bijzondere techniek kan uitproberen en een uniek
  resultaat mee naar huis neemt.\nAan het einde van de workshop ga je naar 
 huis met een handgemaakt keramisch stuk vol betekenis.En wil je iemand and
 ers deze ervaring cadeau doen? Dan kun je ook een cadeaubon kopen\, zodat 
 je een vriend\, familielid of paardenliefhebber een onvergetelijke creatie
 ve dag geeft.\n&nbsp\;\nPer workshop 5/6 plaatsen. Grotere groep in overle
 g. Opgeven via raku@ziggo.nl of raku@ziggo.nl
CATEGORIES:Cursus Workshop
LOCATION:Raku Experience\, Klaverland 12\, Wormer\, Nederland
X-APPLE-STRUCTURED-LOCATION;VALUE=URI;X-ADDRESS=Klaverland 12\, Wormer\, Ne
 derland;X-APPLE-RADIUS=100;X-TITLE=Raku Experience:geo:0,0
END:VEVENT
BEGIN:VTIMEZONE
TZID:Europe/Amsterdam
X-LIC-LOCATION:Europe/Amsterdam
BEGIN:STANDARD
DTSTART:20251026T020000
TZOFFSETFROM:+0200
TZOFFSETTO:+0100
TZNAME:CET
END:STANDARD
END:VTIMEZONE
END:VCALENDAR