BEGIN:VCALENDAR
VERSION:2.0
PRODID:-//wp-events-plugin.com//7.2.3.1//EN
TZID:Europe/Amsterdam
X-WR-TIMEZONE:Europe/Amsterdam
BEGIN:VEVENT
UID:37337@agenda-zaanstreek.nl
DTSTART;TZID=Europe/Amsterdam:20250218T103000
DTEND;TZID=Europe/Amsterdam:20250218T103000
DTSTAMP:20250213T111221Z
URL:https://agenda-zaanstreek.nl/events/workshop-ouder-kind-schilderen/
SUMMARY:Workshop ouder-kind schilderen
DESCRIPTION:\n\n\n\n\n\nIn de schoolvakantie kan je lekker creatief aan de 
 slag\, samen met je (klein-)kind.\n\n\n\n\n\nTijdens deze workshop\, die i
 n atelier In de Hoge Hoed in Koog aan de Zaan wordt gegeven\, beleef je ee
 n leuke\, creatieve middag. De workshop duurt maar liefst 2 uur.\n\nLaat j
 e creativiteit de vrije loop en ontdek tijdens een ontspannende middag mis
 schien wel verborgen talenten!\n\nJe gaat samen aan de slag op een schilde
 rdoek of papier. Je ontdekt de verschillende mogelijkheden van het schilde
 ren met acrylverf.\n\n\n\n\n\n\n\n\n\n\n\n\n\n\n\n\n\n\n\n\n\n\n\n\n\n\n\n
 Tijdens de workshop verzorg ik een drankje\, zoals koffie en thee en frisd
 rank en al het materiaal is inbegrepen.\n\nKosten:&nbsp\;€ 15\,- per kin
 d en € 25\,- per volwassene\n\nVoorjaarsvakantie: dinsdag 18 februari 10
 .30u\, donderdag 20 februari 14.00u\n\n\n\n\n\n\n
CATEGORIES:Cursus Workshop,Jeugd en Familie
LOCATION:Atelier Fiona Hoogmoed in de Hoge Hoed\, Lagedijk 3\, Koog aan de 
 Zaan\, 1541 KA\, Nederland
X-APPLE-STRUCTURED-LOCATION;VALUE=URI;X-ADDRESS=Lagedijk 3\, Koog aan de Za
 an\, 1541 KA\, Nederland;X-APPLE-RADIUS=100;X-TITLE=Atelier Fiona Hoogmoed
  in de Hoge Hoed:geo:0,0
END:VEVENT
BEGIN:VTIMEZONE
TZID:Europe/Amsterdam
X-LIC-LOCATION:Europe/Amsterdam
BEGIN:STANDARD
DTSTART:20241027T020000
TZOFFSETFROM:+0200
TZOFFSETTO:+0100
TZNAME:CET
END:STANDARD
END:VTIMEZONE
END:VCALENDAR