BEGIN:VCALENDAR
VERSION:2.0
PRODID:-//wp-events-plugin.com//7.2.3.1//EN
TZID:Europe/Amsterdam
X-WR-TIMEZONE:Europe/Amsterdam
BEGIN:VEVENT
UID:39139@agenda-zaanstreek.nl
DTSTART;TZID=Europe/Amsterdam:20250627T193000
DTEND;TZID=Europe/Amsterdam:20250627T210000
DTSTAMP:20250612T094359Z
URL:https://agenda-zaanstreek.nl/events/workshop-john-blankenstein-foundat
 ion-voor-zaanse-sportverenigingen/
SUMMARY:Workshop John Blankenstein Foundation voor Zaanse sportverenigingen
DESCRIPTION:\n\n\n\n\n\n\n\nOp vrijdag 27 juni (bij Fortuna Wormerveer) org
 aniseert SportsGen samen met de John Blankenstein Foundation een workshopa
 vond voor het bestuur en leden\, ouders en vrijwilligers van Zaanse sportv
 erenigingen en sportaanbieders over hoe je op proactieve wijze uitsluiting
  en discriminatie kunnen herkennen en toe kunnen werken naar inclusie en e
 en veilig sportklimaat binnen de vereniging. Deelname is helemaal gratis!\
 n\n\n\n\n
CATEGORIES:Cursus Workshop
LOCATION:sv Fortuna Wormerveer\, Esdoornlaan 75\, Wormerveer\, 1521 EC\, Ne
 derland
X-APPLE-STRUCTURED-LOCATION;VALUE=URI;X-ADDRESS=Esdoornlaan 75\, Wormerveer
 \, 1521 EC\, Nederland;X-APPLE-RADIUS=100;X-TITLE=sv Fortuna Wormerveer:ge
 o:0,0
END:VEVENT
BEGIN:VTIMEZONE
TZID:Europe/Amsterdam
X-LIC-LOCATION:Europe/Amsterdam
BEGIN:DAYLIGHT
DTSTART:20250330T030000
TZOFFSETFROM:+0100
TZOFFSETTO:+0200
TZNAME:CEST
END:DAYLIGHT
END:VTIMEZONE
END:VCALENDAR