BEGIN:VCALENDAR
VERSION:2.0
PRODID:-//wp-events-plugin.com//7.2.3.1//EN
TZID:Europe/Amsterdam
X-WR-TIMEZONE:Europe/Amsterdam
BEGIN:VEVENT
UID:37095@agenda-zaanstreek.nl
DTSTART;TZID=Europe/Amsterdam:20250328T160000
DTEND;TZID=Europe/Amsterdam:20250328T160000
DTSTAMP:20250130T110307Z
URL:https://agenda-zaanstreek.nl/events/workshop-graffiti/
SUMMARY:Workshop Graffiti
DESCRIPTION:\n&nbsp\;GRAFFITI WORKSHOP ALERT!&nbsp\;\n\nBen jij creatief\, 
 gek op street art en wil je zelf leren spuiten als een pro?  Dan is dit jo
 uw kans!\n\n&nbsp\;28 maart\n⏰&nbsp\;16:00 uur\n&nbsp\;De Bovenkruier\, 
 Zaandam\n&nbsp\;Voor tieners &amp\; jongeren (vanaf 12 jaar)\n\nPak die sp
 uitbus en laat je creativiteit los op de muur! ✨ Leer de vetste techniek
 en en maak je eigen graffiti-masterpiece. \n\n️&nbsp\;Gratis meedoen? Me
 ld je snel aan!\n Lucas: 06-47163707\n Lonneke: 075-6154553\n&nbsp\;info@d
 ebovenkruier.nl\n\nLet’s make some street art!  #GraffitiWorkshop #Stree
 tArt #CreativityUnlocked
CATEGORIES:Cursus Workshop,Jeugd
LOCATION:Buurtcentrum De Bovenkruier\, Drielse Wetering 49\, Zaandam\, 1509
  KP\, Nederland
X-APPLE-STRUCTURED-LOCATION;VALUE=URI;X-ADDRESS=Drielse Wetering 49\, Zaand
 am\, 1509 KP\, Nederland;X-APPLE-RADIUS=100;X-TITLE=Buurtcentrum De Bovenk
 ruier:geo:0,0
END:VEVENT
BEGIN:VTIMEZONE
TZID:Europe/Amsterdam
X-LIC-LOCATION:Europe/Amsterdam
BEGIN:STANDARD
DTSTART:20241027T020000
TZOFFSETFROM:+0200
TZOFFSETTO:+0100
TZNAME:CET
END:STANDARD
END:VTIMEZONE
END:VCALENDAR