BEGIN:VCALENDAR
VERSION:2.0
PRODID:-//wp-events-plugin.com//7.2.3.1//EN
TZID:Europe/Amsterdam
X-WR-TIMEZONE:Europe/Amsterdam
BEGIN:VEVENT
UID:38626@agenda-zaanstreek.nl
DTSTART;TZID=Europe/Amsterdam:20250517T140000
DTEND;TZID=Europe/Amsterdam:20250517T163000
DTSTAMP:20250508T153456Z
URL:https://agenda-zaanstreek.nl/events/workshop-fantasie-cartoon-tekenen/
SUMMARY:Workshop Fantasie & Cartoon Tekenen
DESCRIPTION:\n Laat je fantasie de vrije loop! \nOp vrijdag 17 mei kun je m
 eedoen aan de inspirerende workshop Fantasie &amp\; Cartoon Tekenen bij In
  de Hoge Hoed – en er zijn nog maar 4 plaatsen beschikbaar!\n\n\nEen gez
 ellige middag vol creativiteit\, humor en verrassende tekenopdrachten. Gee
 n ervaring nodig\, alleen zin om te tekenen en plezier te maken!\n\n\n Vri
 jdag 17 mei\n 14:00 – 16:30\n In de Hoge Hoed\, Koog aan de Zaan\n € 4
 0 incl. materialen en koffie/thee\n\n\n Meld je snel aan: https://indehoge
 hoed.nl/workshop-fantasie-cartoon-tekenen/\n
CATEGORIES:Cursus Workshop
LOCATION:Atelier Fiona Hoogmoed in de Hoge Hoed\, Lagedijk 3\, Koog aan de 
 Zaan\, 1541 KA\, Nederland
X-APPLE-STRUCTURED-LOCATION;VALUE=URI;X-ADDRESS=Lagedijk 3\, Koog aan de Za
 an\, 1541 KA\, Nederland;X-APPLE-RADIUS=100;X-TITLE=Atelier Fiona Hoogmoed
  in de Hoge Hoed:geo:0,0
END:VEVENT
BEGIN:VTIMEZONE
TZID:Europe/Amsterdam
X-LIC-LOCATION:Europe/Amsterdam
BEGIN:DAYLIGHT
DTSTART:20250330T030000
TZOFFSETFROM:+0100
TZOFFSETTO:+0200
TZNAME:CEST
END:DAYLIGHT
END:VTIMEZONE
END:VCALENDAR