BEGIN:VCALENDAR
VERSION:2.0
PRODID:-//wp-events-plugin.com//7.2.3.1//EN
TZID:Europe/Amsterdam
X-WR-TIMEZONE:Europe/Amsterdam
BEGIN:VEVENT
UID:37871@agenda-zaanstreek.nl
DTSTART;TZID=Europe/Amsterdam:20250323T140000
DTEND;TZID=Europe/Amsterdam:20250323T160000
DTSTAMP:20250320T112849Z
URL:https://agenda-zaanstreek.nl/events/wol-verven-en-breien-voor-beginner
 s/
SUMMARY:Wol verven en breien voor beginners
DESCRIPTION:\n\nStart je creatieve avontuur met Breimaatjes en ontdek hoe l
 euk breien kan zijn!&nbsp\;\n\n\n\n\n\n\n\n\n\nAltijd al willen breien\, m
 aar nooit de tijd gevonden? Of misschien vind je het lastig om het via een
  YouTube-filmpje te leren? Geen zorgen! In deze cursus van vier lessen\, v
 erzorgd door Mariette Fleur van Breimaatjes en Geja Muffels van Draadkrach
 t\, leerje alles wat je nodig hebt om een supertoffe col te breien. En het
  beste deel? Je verft je eigen garen in de eerste les!&nbsp\;\nWat kun je 
 verwachten?\n\n\n 	Les 1 (23 maart): Garens verven\n 	Les 2 (30 maart): Br
 eiles\n 	Les 3 (6 april): Breiles\n 	Les 4 (13 april): Breiles\n\n&nbsp\;\
 nWat heb je nodig?\n\n\n 	Goede zin! Ervaring met breien is niet nodig.\n\
 n&nbsp\;\nWat bieden wij?\n\n\n 	Alle materialen zoals een rondbreinaald\,
  verf en garens zijn inbegrepen.\n\n&nbsp\;\nPraktische informatie:\n\n\n 
 	De cursus gaat door bij minimaal 6 deelnemers en er kunnen maximaal 10 me
 nsen meedoen.\n 	Dag en tijd: Zondag van 14.00 – 16.00 uur\n 	Data: 23\,
  30 maart\, 6\, 13 april 2025\n 	Locatie: Atelier In de Hoge Hoed\, Lagend
 ijk 3\, Koog aan de Zaan\n 	Kosten: € 140\,- of 4 strippen van de atelie
 r In de Hoge Hoed&nbsp\;strippenkaart\n\n&nbsp\;\nSchrijf je snel in en on
 tdek hoe leuk en ontspannend breien kan zijn!&nbsp\;\n\n\n\n\n\n\n
CATEGORIES:Cursus Workshop
LOCATION:Atelier Fiona Hoogmoed in de Hoge Hoed\, Lagedijk 3\, Koog aan de 
 Zaan\, 1541 KA\, Nederland
X-APPLE-STRUCTURED-LOCATION;VALUE=URI;X-ADDRESS=Lagedijk 3\, Koog aan de Za
 an\, 1541 KA\, Nederland;X-APPLE-RADIUS=100;X-TITLE=Atelier Fiona Hoogmoed
  in de Hoge Hoed:geo:0,0
END:VEVENT
BEGIN:VTIMEZONE
TZID:Europe/Amsterdam
X-LIC-LOCATION:Europe/Amsterdam
BEGIN:STANDARD
DTSTART:20241027T020000
TZOFFSETFROM:+0200
TZOFFSETTO:+0100
TZNAME:CET
END:STANDARD
END:VTIMEZONE
END:VCALENDAR