BEGIN:VCALENDAR
VERSION:2.0
PRODID:-//wp-events-plugin.com//7.2.3.1//EN
TZID:Europe/Amsterdam
X-WR-TIMEZONE:Europe/Amsterdam
BEGIN:VEVENT
UID:35695@agenda-zaanstreek.nl
DTSTART;TZID=Europe/Amsterdam:20241116T100000
DTEND;TZID=Europe/Amsterdam:20241116T140000
DTSTAMP:20241107T090119Z
URL:https://agenda-zaanstreek.nl/events/wintermarkt-in-mennistenerf/
SUMMARY:Wintermarkt in Mennistenerf
DESCRIPTION:Op zaterdag 16 november is het in zorgcentrum Mennistenerf\, H.
  Gerhardstraat 77\, tijd voor een heuse wintermarkt.\nEr zijn dan allerlei
  december-cadeautjes te koop. Van sieraden tot mooie kaarten. En van speel
 goed tot handgemaakte producten. Goed om te weten voor de hongerige mensen
  onder ons: de brasserie is open voor koffie/thee/frisdrank en broodjes.\n
 Bezoekers zijn welkom van 10.00 tot 14.00 uur.
CATEGORIES:Markt Braderie
LOCATION:Zorgcentrum Mennistenerf\, H. Gerhardstraat 77\, Zaandam\, 1502 CC
 \, Nederland
X-APPLE-STRUCTURED-LOCATION;VALUE=URI;X-ADDRESS=H. Gerhardstraat 77\, Zaand
 am\, 1502 CC\, Nederland;X-APPLE-RADIUS=100;X-TITLE=Zorgcentrum Mennistene
 rf:geo:0,0
END:VEVENT
BEGIN:VTIMEZONE
TZID:Europe/Amsterdam
X-LIC-LOCATION:Europe/Amsterdam
BEGIN:STANDARD
DTSTART:20241027T020000
TZOFFSETFROM:+0200
TZOFFSETTO:+0100
TZNAME:CET
END:STANDARD
END:VTIMEZONE
END:VCALENDAR