BEGIN:VCALENDAR
VERSION:2.0
PRODID:-//wp-events-plugin.com//7.2.3.1//EN
TZID:Europe/Amsterdam
X-WR-TIMEZONE:Europe/Amsterdam
BEGIN:VEVENT
UID:36249@agenda-zaanstreek.nl
DTSTART;TZID=Europe/Amsterdam:20241215T140000
DTEND;TZID=Europe/Amsterdam:20241215T163000
DTSTAMP:20241209T200756Z
URL:https://agenda-zaanstreek.nl/events/winterconcert-jong-belegen-in-de-w
 estertil/
SUMMARY:Winterconcert Jong Belegen in De Westertil
DESCRIPTION:
CATEGORIES:Koren,Muziek
LOCATION:De Westertil\, Kemphaanstraat 1 A\, Wormer\, 1531 VA\, Nederland
X-APPLE-STRUCTURED-LOCATION;VALUE=URI;X-ADDRESS=Kemphaanstraat 1 A\, Wormer
 \, 1531 VA\, Nederland;X-APPLE-RADIUS=100;X-TITLE=De Westertil:geo:0,0
END:VEVENT
BEGIN:VTIMEZONE
TZID:Europe/Amsterdam
X-LIC-LOCATION:Europe/Amsterdam
BEGIN:STANDARD
DTSTART:20241027T020000
TZOFFSETFROM:+0200
TZOFFSETTO:+0100
TZNAME:CET
END:STANDARD
END:VTIMEZONE
END:VCALENDAR