BEGIN:VCALENDAR
VERSION:2.0
PRODID:-//wp-events-plugin.com//7.2.3.1//EN
TZID:Europe/Amsterdam
X-WR-TIMEZONE:Europe/Amsterdam
BEGIN:VEVENT
UID:36077@agenda-zaanstreek.nl
DTSTART;TZID=Europe/Amsterdam:20241214T150000
DTEND;TZID=Europe/Amsterdam:20241214T210000
DTSTAMP:20241128T111931Z
URL:https://agenda-zaanstreek.nl/events/winterbierfestival-sporthal-wormer
 /
SUMMARY:Winterbierfestival Sporthal Wormer
DESCRIPTION:
CATEGORIES:Horeca
LOCATION:Sporthal Wormer\, Spatterstraat 21\, Wormer\, 1531 DA\, Nederland
X-APPLE-STRUCTURED-LOCATION;VALUE=URI;X-ADDRESS=Spatterstraat 21\, Wormer\,
  1531 DA\, Nederland;X-APPLE-RADIUS=100;X-TITLE=Sporthal Wormer:geo:0,0
END:VEVENT
BEGIN:VTIMEZONE
TZID:Europe/Amsterdam
X-LIC-LOCATION:Europe/Amsterdam
BEGIN:STANDARD
DTSTART:20241027T020000
TZOFFSETFROM:+0200
TZOFFSETTO:+0100
TZNAME:CET
END:STANDARD
END:VTIMEZONE
END:VCALENDAR