BEGIN:VCALENDAR
VERSION:2.0
PRODID:-//wp-events-plugin.com//7.2.3.1//EN
TZID:Europe/Amsterdam
X-WR-TIMEZONE:Europe/Amsterdam
BEGIN:VEVENT
UID:40864@agenda-zaanstreek.nl
DTSTART;TZID=Europe/Amsterdam:20251219T170000
DTEND;TZID=Europe/Amsterdam:20260104T170000
DTSTAMP:20251211T102245Z
URL:https://agenda-zaanstreek.nl/events/winter-kerstcircus-zaandam-3/
SUMMARY:Winter Kerstcircus Zaandam
DESCRIPTION:\n\nGoed nieuws voor jong én oud: Circus Renz Berlin strijkt n
 eer in Zaandam met een gloednieuwe show: de eerste editie van het Winter K
 erstcircus Zaandam.\nOver het Winter Kerstcircus\nZodra je de tent binnens
 tapt\, verandert de sfeer meteen. Het zachte geroezemoes\, de geur van ver
 se popcorn en het warme licht over de piste zetten de toon voor een bijzon
 dere avond. Het Kerstcircus biedt een internationaal circusprogramma met o
 nder andere een clown\, paarden\, kamelen\, acrobaten en een spannende vuu
 rshow.\n\nEten en drinken kan ter plaatse gekocht worden in de grote voort
 ent. Let op: bij de kassa’s kan alleen contant betaald worden.\n\n&nbsp\
 ;
CATEGORIES:Evenement
LOCATION:Burgemeester In't Veldpark\, Heijermansstraat\, Zaandam\, Nederlan
 d
X-APPLE-STRUCTURED-LOCATION;VALUE=URI;X-ADDRESS=Heijermansstraat\, Zaandam\
 , Nederland;X-APPLE-RADIUS=100;X-TITLE=Burgemeester In't Veldpark:geo:0,0
END:VEVENT
BEGIN:VTIMEZONE
TZID:Europe/Amsterdam
X-LIC-LOCATION:Europe/Amsterdam
BEGIN:STANDARD
DTSTART:20251026T020000
TZOFFSETFROM:+0200
TZOFFSETTO:+0100
TZNAME:CET
END:STANDARD
END:VTIMEZONE
END:VCALENDAR