BEGIN:VCALENDAR
VERSION:2.0
PRODID:-//wp-events-plugin.com//7.2.3.1//EN
TZID:Europe/Amsterdam
X-WR-TIMEZONE:Europe/Amsterdam
BEGIN:VEVENT
UID:40759@agenda-zaanstreek.nl
DTSTART;TZID=Europe/Amsterdam:20251130T133000
DTEND;TZID=Europe/Amsterdam:20251130T210000
DTSTAMP:20251127T104346Z
URL:https://agenda-zaanstreek.nl/events/winter-internationaal-dansensemble
 -paloina-3x/
SUMMARY:Winter - internationaal dansensemble Paloina (3x)
DESCRIPTION:\n\n 	zondag 30 november 2025\n 	13:30&nbsp\;&nbsp\;21:00\n\n\n
  	Zaans Cultuurhuis2 Cornelis van UitgeeststraatZaandam\, NH\, 1508 EHNeth
 erlands&nbsp\;\n\n\n\n\n\n\n\n\n\nEen folklorevoorstelling om de koude dag
 en te verwarmen\nVan Engelse tradities tot Hongaarse klapfiguren en een sp
 rookjesachtige Turkse dans – deze winter presenteert Paloina een veelzij
 dig programma. Op zondagmiddag 30 november heten we je van harte welkom in
  het Zaans Cultuurhuis. Laat je meevoeren door kleurrijke rokken\, stampen
 de laarzen en eeuwenoude melodieën.\nTijdens deze voorstelling gaat Paloi
 na in première met het gloednieuwe duet Lucht\, gecreëerd door Floortje 
 Doeksen. Daarnaast brengen we onder meer de feestelijke choreografie Not f
 ar from Lublin\, en halen we de Hongaarse laarzen weer uit de kast voor Ve
 rbunk – een van onze oudste stukken\, die we al lange tijd niet meer heb
 ben vertoond. Alles in een sfeervol winterdecor: verkleumde straatmuzikant
 en op het plein\, een glaasje wijn om de kou te verdrijven en een warm fee
 sttafereel als finale.\nBeleef de winter zoals je hem nog nooit hebt gezie
 n.\n\n\n\n\n\n\n\nDe voorstelling speelt om:\n13.30 uur\n16:00 uur\n19:00 
 uur\n\n\n\n\n\n\nReserveer\n\n\n\n\n\n
CATEGORIES:Dans,Muziek
LOCATION:Zaans Cultuurhuis\, Cornelis van Uitgeeststraat 2\, Zaandam\, 1508
  EH\, Nederland
X-APPLE-STRUCTURED-LOCATION;VALUE=URI;X-ADDRESS=Cornelis van Uitgeeststraat
  2\, Zaandam\, 1508 EH\, Nederland;X-APPLE-RADIUS=100;X-TITLE=Zaans Cultuu
 rhuis:geo:0,0
END:VEVENT
BEGIN:VTIMEZONE
TZID:Europe/Amsterdam
X-LIC-LOCATION:Europe/Amsterdam
BEGIN:STANDARD
DTSTART:20251026T020000
TZOFFSETFROM:+0200
TZOFFSETTO:+0100
TZNAME:CET
END:STANDARD
END:VTIMEZONE
END:VCALENDAR