BEGIN:VCALENDAR
VERSION:2.0
PRODID:-//wp-events-plugin.com//7.2.3.1//EN
TZID:Europe/Amsterdam
X-WR-TIMEZONE:Europe/Amsterdam
BEGIN:VEVENT
UID:36872@agenda-zaanstreek.nl
DTSTART;TZID=Europe/Amsterdam:20250328T203000
DTEND;TZID=Europe/Amsterdam:20250328T203000
DTSTAMP:20250116T112935Z
URL:https://agenda-zaanstreek.nl/events/wild-romance/
SUMMARY:Wild Romance
DESCRIPTION:\n\n\nWild Romance terug? Sommigen zullen zelfs zeggen dat ‘t
 he Wild Romance van Herman Brood’ nooit is weggeweest. En de legendarisc
 he band blijft geschiedenis schrijven! Een nieuw album is op komst (maart 
 2025) terwijl het zweet nog niet is opgedroogd bij de mannen\, van een waa
 nzinnige tour waarbij het album Shpritsz integraal werd gespeeld. Nu komt 
 de Suburban Tour er aan met de beste songs van Herman Brood én his Wild R
 omance aangevuld met vele andere hits. Het belooft een groot feest der her
 kenning te worden met al die fijne herinneringen\, maar ongetwijfeld ook a
 lle emoties…\n\nDe echte fans begrijpen het meteen. Je stond in de rij b
 ij Paradiso\, Luxor\, Huize Maas of Quasimodo. De zwarte vrachtwagen van d
 e band stond er al. In de verte hoorde je gerommel. Het geluid dat net zo 
 rock ’n roll is als een Les Paul via een Marshall: een laag grommende\, 
 roffelende Amerikaanse V8. Om de hoek verscheen een grote\, sinistere\, zw
 arte\, Amerikaanse SUV. Een Chevrolet Suburban. En je wist het: The Wild R
 omance is in the house!\n\nSuburban. Een goedgekozen naam voor een goedgek
 ozen auto\, want Herman voelde zich op zijn best in de Amerikaanse suburbs
 \, de gevaarlijke buitenwijken\, doin’ nothin’ just hangin’ ’round
  met de outsiders\, de buitenbeentjes\, de creatievelingen\, het gevaar\, 
 drank\, drugs\, de neon lights van the Open All Night\, en de beste soulmu
 ziek uit de jukebox. De Wild Romance brengt dat gevaar terug op het podium
 . We horen de legendarische Chevy al aankomen…\n\nBezetting:\nDany Ladem
 acher – Gitaar &amp\; Vocal\nDavid Hollestelle – Gitaar &amp\; Vocal\n
 Otto Cooymans – Toetsen &amp\; Vocal\nJo De Roeck- Lead Vocal\nJohn Apon
 no- Bas\nJan t ‘Hoen – Drums\n\n\n\n\n\n\n\nTickets\n\n\n\n\n\nVoorver
 koop: € 22\,- Deur: € 25\,-\n\n\n\n\n\n\n\nTickets\n\n\n&nbsp\;\n\n\n
CATEGORIES:Muziek
LOCATION:Podium De Flux\, Hemkade 48\, Zaandam\, 1506 PS\, Nederland
X-APPLE-STRUCTURED-LOCATION;VALUE=URI;X-ADDRESS=Hemkade 48\, Zaandam\, 1506
  PS\, Nederland;X-APPLE-RADIUS=100;X-TITLE=Podium De Flux:geo:0,0
END:VEVENT
BEGIN:VTIMEZONE
TZID:Europe/Amsterdam
X-LIC-LOCATION:Europe/Amsterdam
BEGIN:STANDARD
DTSTART:20241027T020000
TZOFFSETFROM:+0200
TZOFFSETTO:+0100
TZNAME:CET
END:STANDARD
END:VTIMEZONE
END:VCALENDAR