BEGIN:VCALENDAR
VERSION:2.0
PRODID:-//wp-events-plugin.com//7.2.3.1//EN
TZID:Europe/Amsterdam
X-WR-TIMEZONE:Europe/Amsterdam
BEGIN:VEVENT
UID:38869@agenda-zaanstreek.nl
DTSTART;TZID=Europe/Amsterdam:20250629T130000
DTEND;TZID=Europe/Amsterdam:20250629T130000
DTSTAMP:20250527T190112Z
URL:https://agenda-zaanstreek.nl/events/wijn-wandelen-voor-het-goede-doel/
SUMMARY:Wijn- wandelen voor het goede doel!
DESCRIPTION:\n\n\n\n\n\n\nOp 29 juni kun je weer -wijn- wandelen voor het g
 oede doel!\nRotaryclub De Zaan-Zaandijk organiseert op zondagmiddag 29 jun
 i 2025 de Eerste Zaanse Wijnwandeling – tweede editie. Ditmaal wandelen 
 we een rondje door Westzaan en proeft elke wandelaar 5 verschillende wijne
 n en zal er 3 bijpassende hapjes bij geserveerd krijgen. Dat ons goede doe
 l de De Zaansche Molen: 100 jaar in 2025 is\, blijkt meteen al op het star
 t (en eind)punt: molen de Schoolmeester. Ook doen we nog molen het Prinsen
 hof aan. Vereniging De Zaansche Molen is eigenaar van deze en nog elf ande
 re industriemolens en beheert ook de museumcollectie zoals die te zien is 
 in het Molenmuseum op de Zaanse Schans. Veel vrijwilligers steken hier hun
  handen uit de mouwen om dit prachtige erfgoed voor ons en de komende gene
 raties te bewaren. Een mooi doel dat we van harte willen ondersteunen.\nNa
 tuurlijk hebben we de wandeling alvast uitgeprobeerd en de wijnen geproefd
 . Nou dat was allebei dik in orde! Dus alle reden om je nu aan te melden v
 oor deze sportieve en gezellige middag!\nOp de dag van de Wijnwandeling on
 tvang je bij de startlocatie op vertoon van je deelnemersbewijs de wandelr
 oute\, een stempelkaart en een proefglas. Bij de startlocatie kun je je fi
 ets (voorkeur) of auto parkeren. De start is tussen 13-14 uur. Je kunt je 
 inschrijven via onze website:&nbsp\;www.rotary.nl/dezaanzaandijk\nDeelneme
 rs betalen € 32\,50 (exclusief administratiekosten a € 0\,50) voor dez
 e middag.\nWij kijken er naar uit om jullie 29 juni te mogen ontvangen bij
  molen De Schoolmeester. Na afloop is er een gezellig samenzijn en bij de 
 foodtruck zijn verschillende soorten drankjes en hapjes te koop.\n\n&nbsp\
 ;\n\n\n\n\n\n\n\n\n\n\n\n\n\n&nbsp\;\n\n\n\n\n\n\n\n\n\n\n\n&nbsp\;\n\n\n\
 n\n\n\n\n\n\n\n\n\n
CATEGORIES:Recreatiesport,Sociaal
LOCATION:Molen De Schoolmeester\, Guispad 3\, Westzaan\, 1551 SX\, Nederlan
 d
X-APPLE-STRUCTURED-LOCATION;VALUE=URI;X-ADDRESS=Guispad 3\, Westzaan\, 1551
  SX\, Nederland;X-APPLE-RADIUS=100;X-TITLE=Molen De Schoolmeester:geo:0,0
END:VEVENT
BEGIN:VTIMEZONE
TZID:Europe/Amsterdam
X-LIC-LOCATION:Europe/Amsterdam
BEGIN:DAYLIGHT
DTSTART:20250330T030000
TZOFFSETFROM:+0100
TZOFFSETTO:+0200
TZNAME:CEST
END:DAYLIGHT
END:VTIMEZONE
END:VCALENDAR