BEGIN:VCALENDAR
VERSION:2.0
PRODID:-//wp-events-plugin.com//7.2.3.1//EN
TZID:Europe/Amsterdam
X-WR-TIMEZONE:Europe/Amsterdam
BEGIN:VEVENT
UID:37873@agenda-zaanstreek.nl
DTSTART;TZID=Europe/Amsterdam:20250327T200000
DTEND;TZID=Europe/Amsterdam:20250327T200000
DTSTAMP:20250320T154507Z
URL:https://agenda-zaanstreek.nl/events/wijn-proeverij-met-wijnsommelier-r
 uben-valenteyn/
SUMMARY:Wijn proeverij met wijnsommelier Ruben Valenteyn
DESCRIPTION:\n\n\n\n\n\n\nHeb jij je met je vriendinnen al opgegeven voor o
 nze wijn proeverij met wijnsommelier Ruben Valenteyn? Wel doen hoor\, hij 
 heeft heerlijke wijnen uitgekozen met bijpassende hapjes.\n\n\nDonderdag 2
 7 maart\, Inloop vanaf 19:00 uur\, start proeverij 20:00 uur.\nDe proeveri
 j bestaat uit witte- rose- en rode wijnen.\nHeerlijke bijpassende hapjes t
 ussendoor.\nMaximaal 30 deelnemers.\nKosten 29\,50 p.p\nOpgeven kan door m
 ail te sturen naar: evenementen @tapperijdeverwachting.nl of door het stur
 en van een pb\n\n\n\n\n\n\n\n\n\n\n\n\n\n\n\n&nbsp\;\n\n\n\n\n\n\n\n\n\n\n
 &nbsp\;\n\n\n\n\n\n\n
CATEGORIES:Horeca
LOCATION:Tapperij De Verwachting\, Dorpsstraat 584\, Assendelft\, 1566 EK\,
  Nederland
X-APPLE-STRUCTURED-LOCATION;VALUE=URI;X-ADDRESS=Dorpsstraat 584\, Assendelf
 t\, 1566 EK\, Nederland;X-APPLE-RADIUS=100;X-TITLE=Tapperij De Verwachting
 :geo:0,0
END:VEVENT
BEGIN:VTIMEZONE
TZID:Europe/Amsterdam
X-LIC-LOCATION:Europe/Amsterdam
BEGIN:STANDARD
DTSTART:20241027T020000
TZOFFSETFROM:+0200
TZOFFSETTO:+0100
TZNAME:CET
END:STANDARD
END:VTIMEZONE
END:VCALENDAR