BEGIN:VCALENDAR
VERSION:2.0
PRODID:-//wp-events-plugin.com//7.2.3.1//EN
TZID:Europe/Amsterdam
X-WR-TIMEZONE:Europe/Amsterdam
BEGIN:VEVENT
UID:36217@agenda-zaanstreek.nl
DTSTART;TZID=Europe/Amsterdam:20250201T203000
DTEND;TZID=Europe/Amsterdam:20250201T203000
DTSTAMP:20241205T110059Z
URL:https://agenda-zaanstreek.nl/events/whos-afraid-of-oscar-wilde-compagn
 ie-red-yellow-and-blue/
SUMMARY:Who's afraid of Oscar Wilde - Compagnie Red Yellow and Blue
DESCRIPTION:&nbsp\;\n\n\nHet is weer vrijdagavond en broer en zus Bram en V
 era zetten de hapjes en drankjes op tafel voor de wekelijkse borrel met hu
 n partners Manu en Sinem. Een vast ritueel om het weekend in te luiden. Ma
 ar deze keer hangt er spanning in de lucht.\n\n\n\n\n\n\nWaar het besluit 
 van Vera en Sinem om ‘aan kinderen te beginnen’ begon als een prelude 
 op de roze wolk\, is het onderwerp inmiddels een&nbsp\;touchy subject. Wan
 t wie had kunnen bedenken dat ze alle twee het kind wilden dragen\, om zo 
 ‘een stukje van zichzelf terug te zien’? Om de impasse te doorbreken h
 ebben Bram en Vera voor vanavond een pitch voorbereid. Een&nbsp\;out of th
 e box&nbsp\;idee\, waarvan ze geen idee hebben hoe het bij hun partners ga
 at vallen.&nbsp\;\n\nMet deze “beste komedie van het jaar” (NRC)&nbsp\
 ; geeft Compagnie Red Yellow &amp\; Blue een respectvolle knipoog naar&nbs
 p\;Who’s afraid of Virginia Woolf -&nbsp\;het befaamde relatiedrama van 
 Edward Albee - en maakt er een zwarte keukentafelkomedie van. Maar hoe ont
 vouwt het verhaal zich wanneer het gaat over queer dertigers en de relatie
 perikelen van nu? In rake dialogen wordt een portret geschetst van een gen
 eratie\, waarin vier millennials worstelen met treurigmakende uitdagingen\
 , maar vooral ook lachwekkend herkenbaar zijn.\n\n\n\n
CATEGORIES:Theater,Toneel
LOCATION:Zaantheater\, Nicolaasstraat 3\, Zaandam\, 1506 BB\, Nederland
X-APPLE-STRUCTURED-LOCATION;VALUE=URI;X-ADDRESS=Nicolaasstraat 3\, Zaandam\
 , 1506 BB\, Nederland;X-APPLE-RADIUS=100;X-TITLE=Zaantheater:geo:0,0
END:VEVENT
BEGIN:VTIMEZONE
TZID:Europe/Amsterdam
X-LIC-LOCATION:Europe/Amsterdam
BEGIN:STANDARD
DTSTART:20241027T020000
TZOFFSETFROM:+0200
TZOFFSETTO:+0100
TZNAME:CET
END:STANDARD
END:VTIMEZONE
END:VCALENDAR