BEGIN:VCALENDAR
VERSION:2.0
PRODID:-//wp-events-plugin.com//7.2.3.1//EN
TZID:Europe/Amsterdam
X-WR-TIMEZONE:Europe/Amsterdam
BEGIN:VEVENT
UID:37014@agenda-zaanstreek.nl
DTSTART;TZID=Europe/Amsterdam;VALUE=DATE:20250204
DTEND;TZID=Europe/Amsterdam;VALUE=DATE:20250205
DTSTAMP:20250127T201619Z
URL:https://agenda-zaanstreek.nl/events/wereldkankerdag-presentatie-ipso-c
 entrum-annas-huis/
SUMMARY:Wereldkankerdag - Presentatie IPSO centrum Anna’s huis
DESCRIPTION:\n\n\n\n\n\n\n\nAnna's huis\n\n\n\nOp 4 februari is het Wereldk
 ankerdag en staan onze deuren open voor iedereen die geïnteresseerd is om
  kennis te maken met IPSO centrum Anna’s huis.\n\n\n\n\n\n\n\n\n\n\n\nOf
  je nu zelf met kanker te maken hebt (of hebt gehad)\, of als naaste\, man
 telzorger of zorgprofessional. Je bent van harte welkom voor een warme lun
 ch met soep en brood tussen 12:30 en 13:30 uur. Onze vrijwilligers en coö
 rdinatoren staan klaar om meer te vertellen over al onze activiteiten en d
 e ondersteuning die wij bieden.\n\n\nOok wordt op deze dag het boek ‘Lev
 enslessen’ gepresenteerd\, een bundel van krachtige levenslessen van men
 sen met kanker over hoop\, veerkracht en zelfzorg. De lessen zijn afkomsti
 g van gasten van de 100 IPSO centra in Nederland\, ook wij hebben als IPSO
  centrum hier een bijdrage aan geleverd.\nHet boek biedt troost en praktis
 che inzichten aan iedereen die met kanker te maken krijgt.\n\n\n#wereldkan
 kerdag #levenslessen #annashuis #annashuiszaandam\n\n\n\n\n\n\n\n\n\n\n\n\
 n\n\n\n&nbsp\;\n\n\n\n\n\n\n\n\n\n\n\n\n\n\n&nbsp\;\n\n\n\n\n\n\n\n\n
CATEGORIES:Sociaal
LOCATION:Centrum voor Leven met kanker | Anna's huis\, Zorgboulevard Koning
 in Julianaplein 18 \, Zaandam\, 1502 DV\, Nederland
X-APPLE-STRUCTURED-LOCATION;VALUE=URI;X-ADDRESS=Zorgboulevard Koningin Juli
 anaplein 18 \, Zaandam\, 1502 DV\, Nederland;X-APPLE-RADIUS=100;X-TITLE=Ce
 ntrum voor Leven met kanker | Anna's huis:geo:0,0
END:VEVENT
BEGIN:VTIMEZONE
TZID:Europe/Amsterdam
X-LIC-LOCATION:Europe/Amsterdam
BEGIN:STANDARD
DTSTART:20241027T020000
TZOFFSETFROM:+0200
TZOFFSETTO:+0100
TZNAME:CET
END:STANDARD
END:VTIMEZONE
END:VCALENDAR