BEGIN:VCALENDAR
VERSION:2.0
PRODID:-//wp-events-plugin.com//7.2.3.1//EN
TZID:Europe/Amsterdam
X-WR-TIMEZONE:Europe/Amsterdam
BEGIN:VEVENT
UID:40597@agenda-zaanstreek.nl
DTSTART;TZID=Europe/Amsterdam:20251109T130000
DTEND;TZID=Europe/Amsterdam:20251109T153000
DTSTAMP:20251106T111059Z
URL:https://agenda-zaanstreek.nl/events/wauw-25-bontehond/
SUMMARY:WAUW! (2\,5+) -  BonteHond (2x)
DESCRIPTION:\n\nWAUW! is een fysieke en muzikale peutervoorstelling en laat
  de wereld zien door de ogen van peuters en kleuters. Zij vinden immers al
 les wauw\, zoals hun eigen spiegelbeeld in de etalage van een winkelraam. 
 En waar volwassenen een omgevallen plantenpot als obstakel en vies klusje 
 zien\, zijn jonge kinderen meer geïnteresseerd in de regenwormen die tevo
 orschijn komen.\n\n\n\n\n\n\nDe wereld van volwassenen is vaak veelal zwar
 t/wit terwijl kinderen juist veel meer kleur zien. Deze voorstelling laat 
 zien dat dingen die alledaags lijken of zelfs als hindernis worden ervaren
  vaak veel interessanter\, spannender en mooier zijn dan we in eerste inst
 antie denken. De WAUW factor is er vrijwel altijd\, zolang we maar goed ki
 jken.&nbsp\;\n\n“De performers hebben een fijne onderlinge chemie. Die k
 omt tot uiting in de manier waarop ze zich verhouden tot de papieren werel
 den die ze samen creëren\, maar ook in grappige dialogen in een fantasiet
 aaltje […] Bij het kijken naar de zoveelste waaiervondst heb ik meermale
 n gedacht: goh\, kan dat ook? Dat diezelfde vondsten door de nog helemaal 
 frisse ogen van peuters en kleuters hartstikke&nbsp\;Wauw!&nbsp\;zijn\, da
 t kan ik heel goed snappen.”\n\n&nbsp\;– Theaterkrant / Fritz de Jong\
 n\n\n\n
CATEGORIES:Jeugd,Jeugd en Familie
LOCATION:Zaantheater\, Nicolaasstraat 3\, Zaandam\, 1506 BB\, Nederland
X-APPLE-STRUCTURED-LOCATION;VALUE=URI;X-ADDRESS=Nicolaasstraat 3\, Zaandam\
 , 1506 BB\, Nederland;X-APPLE-RADIUS=100;X-TITLE=Zaantheater:geo:0,0
END:VEVENT
BEGIN:VTIMEZONE
TZID:Europe/Amsterdam
X-LIC-LOCATION:Europe/Amsterdam
BEGIN:STANDARD
DTSTART:20251026T020000
TZOFFSETFROM:+0200
TZOFFSETTO:+0100
TZNAME:CET
END:STANDARD
END:VTIMEZONE
END:VCALENDAR