BEGIN:VCALENDAR
VERSION:2.0
PRODID:-//wp-events-plugin.com//7.2.3.1//EN
TZID:Europe/Amsterdam
X-WR-TIMEZONE:Europe/Amsterdam
BEGIN:VEVENT
UID:36386@agenda-zaanstreek.nl
DTSTART;TZID=Europe/Amsterdam:20250112T140000
DTEND;TZID=Europe/Amsterdam:20250112T150000
DTSTAMP:20241218T141942Z
URL:https://agenda-zaanstreek.nl/events/wat-stroomt-waar-het-niet-gaan-kan
 -lezing-en-experimenteren-7-14j/
SUMMARY:Wat stroomt waar het niet gaan kan? Lezing en experimenteren! 7-14j
DESCRIPTION:ZO 12 JAN:&nbsp\;\n\n\n\nTickets\n\nWat kan door de lucht\, doo
 r oceanen én door landschappen\, van de hoogste bergtop tot het diepste d
 al? Ja\,&nbsp\;WATER! In de vorm van ijs\, waterdamp en vloeistof. Het lij
 kt wel&nbsp\;magie&nbsp\;hoe water steeds verandert en zich verplaatst ove
 r de aarde. Tijdens de&nbsp\;lezing&nbsp\;van waterwetenschapper Yvonne Sm
 it kom je erachter hoe de waterkringloop werkt.\n\nNa een korte pauze ga j
 e zelf&nbsp\;experimenteren&nbsp\;met kou en ijs. Hoe koud kan jij het mak
 en? Probeer het met water\, ijs\, zout\, roeren\, zwaaien of met chemie. H
 oe snel smelt ijs op ijzer\, plastic of in zoet of zout water? Maak een wo
 lk en nog meer.&nbsp\;Je ontdekt het allemaal in het Hemlab!\n\nZo 12 jan 
 2025 14.00-15.00 u&nbsp\;\n\n&nbsp\;\n\nhemlab.nl/tickets\nKind 7-14 jaar/
 volwassene € 23\,00\n2 strippen met een&nbsp\;strippenkaart\nMet ZaanseP
 as/Stadspas €2\,50\n\n
CATEGORIES:Cursus Workshop,Jeugd
LOCATION:HEMLAB - Jeugdlab Zaandam\, Barndegat 6-8\, Zaandam\, 1505 HN\, Ne
 derland
X-APPLE-STRUCTURED-LOCATION;VALUE=URI;X-ADDRESS=Barndegat 6-8\, Zaandam\, 1
 505 HN\, Nederland;X-APPLE-RADIUS=100;X-TITLE=HEMLAB - Jeugdlab Zaandam:ge
 o:0,0
END:VEVENT
BEGIN:VTIMEZONE
TZID:Europe/Amsterdam
X-LIC-LOCATION:Europe/Amsterdam
BEGIN:STANDARD
DTSTART:20241027T020000
TZOFFSETFROM:+0200
TZOFFSETTO:+0100
TZNAME:CET
END:STANDARD
END:VTIMEZONE
END:VCALENDAR