BEGIN:VCALENDAR
VERSION:2.0
PRODID:-//wp-events-plugin.com//7.2.3.1//EN
TZID:Europe/Amsterdam
X-WR-TIMEZONE:Europe/Amsterdam
BEGIN:VEVENT
UID:40766@agenda-zaanstreek.nl
DTSTART;TZID=Europe/Amsterdam:20251129T220000
DTEND;TZID=Europe/Amsterdam:20251129T220000
DTSTAMP:20251127T110035Z
URL:https://agenda-zaanstreek.nl/events/wasteland-neemt-de-nacht-over/
SUMMARY:Wasteland neemt de nacht over
DESCRIPTION:https://hemkade48.nl/nl/event/wasteland/?_gl=1*by5wtz*_up*MQ..*
 _ga*NDA5MTQzNDU5LjE3NTgxNDIwODk.*_ga_Y5CL4G196H*czE3NTgxNDIwODckbzEkZzAkdD
 E3NTgxNDIwODckajYwJGwwJGgw&nbsp\;
CATEGORIES:Muziek
LOCATION:North Sea Venue\, Hemkade 48\, Zaandam\, 1506 PS\, Nederland
X-APPLE-STRUCTURED-LOCATION;VALUE=URI;X-ADDRESS=Hemkade 48\, Zaandam\, 1506
  PS\, Nederland;X-APPLE-RADIUS=100;X-TITLE=North Sea Venue:geo:0,0
END:VEVENT
BEGIN:VTIMEZONE
TZID:Europe/Amsterdam
X-LIC-LOCATION:Europe/Amsterdam
BEGIN:STANDARD
DTSTART:20251026T020000
TZOFFSETFROM:+0200
TZOFFSETTO:+0100
TZNAME:CET
END:STANDARD
END:VTIMEZONE
END:VCALENDAR