BEGIN:VCALENDAR
VERSION:2.0
PRODID:-//wp-events-plugin.com//7.2.3.1//EN
TZID:Europe/Amsterdam
X-WR-TIMEZONE:Europe/Amsterdam
BEGIN:VEVENT
UID:40904@agenda-zaanstreek.nl
DTSTART;TZID=Europe/Amsterdam:20251223T194500
DTEND;TZID=Europe/Amsterdam:20251223T194500
DTSTAMP:20251218T102118Z
URL:https://agenda-zaanstreek.nl/events/vuile-huichelaar-ik-zit-hier-heel-
 alleen-kerstfeest-te-vieren-2/
SUMMARY:Vuile Huichelaar - Ik zit hier heel alleen kerstfeest te vieren 2
DESCRIPTION:\n\n\n\n\n\ndi 23 dec 202520.00\nAlbert Heijnzaal\n€16\,75 - 
 €30\,45\nTheatershow\, Muziek\n\nFavoriet\nBestel\n\n\n\n\n\n\n\n\n 	&nb
 sp\;\n 	Theater\n 	Agenda\n 	Seizoen 2025-2026\n 	Vuile Huichelaar&nbsp\;\
 n\n\n\n\n\n\n\n\n 	Theatershow\, Muziek\n\n\n\n\nWat doen we met kerst dit
  jaar?&nbsp\;Gaan we aan de veganistische kalkoen en lactosevrije ijstaart
 ? Hebben we grootse plannen? Of kiezen we toch voor gourmetten met Viennet
 ta toe? En nog belangrijker: wat doen we met ma?!\n\n\n\n\n
CATEGORIES:Muziek,Theater
LOCATION:Zaantheater\, Nicolaasstraat 3\, Zaandam\, 1506 BB\, Nederland
X-APPLE-STRUCTURED-LOCATION;VALUE=URI;X-ADDRESS=Nicolaasstraat 3\, Zaandam\
 , 1506 BB\, Nederland;X-APPLE-RADIUS=100;X-TITLE=Zaantheater:geo:0,0
END:VEVENT
BEGIN:VTIMEZONE
TZID:Europe/Amsterdam
X-LIC-LOCATION:Europe/Amsterdam
BEGIN:STANDARD
DTSTART:20251026T020000
TZOFFSETFROM:+0200
TZOFFSETTO:+0100
TZNAME:CET
END:STANDARD
END:VTIMEZONE
END:VCALENDAR