BEGIN:VCALENDAR
VERSION:2.0
PRODID:-//wp-events-plugin.com//7.2.3.1//EN
TZID:Europe/Amsterdam
X-WR-TIMEZONE:Europe/Amsterdam
BEGIN:VEVENT
UID:40593@agenda-zaanstreek.nl
DTSTART;TZID=Europe/Amsterdam:20251107T200000
DTEND;TZID=Europe/Amsterdam:20251107T200000
DTSTAMP:20251106T110100Z
URL:https://agenda-zaanstreek.nl/events/vroeg-pieken/
SUMMARY:Vroeg Pieken
DESCRIPTION:\n\n\nFRI\, 7 NOVEMBER 2025 | 20:00 – 00:30\nOP WELK NUMMER D
 ANS JIJ?\nJe hebt zelf invloed op de nummers die bij Vroeg Pieken gedraaid
  worden. Niet door ze op de avond zelf aan de DJ door te geven\, maar door
  ze in te sturen via deze pagina. Het kan het hitje zijn waar je trots op 
 bent\, maar ook zeker je guilty pleasure. Van disco tot pop\, van salsa to
 t hiphop. Uit welk jaar dan ook. Als het maar dansbaar is. Om zoveel mogel
 ijk rekening te kunnen houden met al onze Vroege Piekers vragen we je éé
 n nummer in te sturen.\n\n&nbsp\;\n\n\n\n\n\nGet Tickets\n\n
CATEGORIES:Muziek
LOCATION:North Sea Venue\, Hemkade 48\, Zaandam\, 1506 PS\, Nederland
X-APPLE-STRUCTURED-LOCATION;VALUE=URI;X-ADDRESS=Hemkade 48\, Zaandam\, 1506
  PS\, Nederland;X-APPLE-RADIUS=100;X-TITLE=North Sea Venue:geo:0,0
END:VEVENT
BEGIN:VTIMEZONE
TZID:Europe/Amsterdam
X-LIC-LOCATION:Europe/Amsterdam
BEGIN:STANDARD
DTSTART:20251026T020000
TZOFFSETFROM:+0200
TZOFFSETTO:+0100
TZNAME:CET
END:STANDARD
END:VTIMEZONE
END:VCALENDAR