BEGIN:VCALENDAR
VERSION:2.0
PRODID:-//wp-events-plugin.com//7.2.3.1//EN
TZID:Europe/Amsterdam
X-WR-TIMEZONE:Europe/Amsterdam
BEGIN:VEVENT
UID:37773@agenda-zaanstreek.nl
DTSTART;TZID=Europe/Amsterdam:20250321T170000
DTEND;TZID=Europe/Amsterdam:20250321T170000
DTSTAMP:20250318T195959Z
URL:https://agenda-zaanstreek.nl/events/vrijmibo-met-de-medewerking-van-vo
 ormalig-radio-10-dj-peter-snijders/
SUMMARY:VrijMiBo met de medewerking van voormalig radio 10 DJ Peter Snijder
 s
DESCRIPTION:\n\n\n\n\n\n\nVrijdag 21 maart organiseert Tapperij de Verwacht
 ing weer een gezellige VrijMiBo\, ditmaal met de medewerking van voormalig
  radio 10 DJ Peter Snijders.\nGezellig de dag afsluiten met je collega’s
 \, vrienden of kennissen.\nBitterballetje\, stukje kaas\, plakje worst en 
 een koud biertje of glas wijn. Lekker dansen en genieten van de muziek van
  Peter\, die om 17:00 uur start met draaien.\n\n\n\n\n\n\n\n\n\n\n\n\n\n\n
 \n&nbsp\;\n\n\n\n\n\n\n\n\n\n\n&nbsp\;\n\n\n\n\n\n\n
CATEGORIES:Horeca,Muziek
LOCATION:Tapperij De Verwachting\, Dorpsstraat 584\, Assendelft\, 1566 EK\,
  Nederland
X-APPLE-STRUCTURED-LOCATION;VALUE=URI;X-ADDRESS=Dorpsstraat 584\, Assendelf
 t\, 1566 EK\, Nederland;X-APPLE-RADIUS=100;X-TITLE=Tapperij De Verwachting
 :geo:0,0
END:VEVENT
BEGIN:VTIMEZONE
TZID:Europe/Amsterdam
X-LIC-LOCATION:Europe/Amsterdam
BEGIN:STANDARD
DTSTART:20241027T020000
TZOFFSETFROM:+0200
TZOFFSETTO:+0100
TZNAME:CET
END:STANDARD
END:VTIMEZONE
END:VCALENDAR