BEGIN:VCALENDAR
VERSION:2.0
PRODID:-//wp-events-plugin.com//7.2.3.1//EN
TZID:Europe/Amsterdam
X-WR-TIMEZONE:Europe/Amsterdam
BEGIN:VEVENT
UID:37754@agenda-zaanstreek.nl
DTSTART;TZID=Europe/Amsterdam:20250314T160000
DTEND;TZID=Europe/Amsterdam:20250314T233000
DTSTAMP:20250313T104010Z
URL:https://agenda-zaanstreek.nl/events/vrijmibo-in-de-westzaanse-kroeg/
SUMMARY:VrijMiBo in De Westzaanse kroeg
DESCRIPTION:&nbsp\;Evenementenreeks:&nbsp\;VrijMiBo in De Westzaanse kroeg\
 n\n\n4 x per jaar organiseren wij De Westzaanse kroeg.\n\nEen gezellige vr
 ijdag middag borrel.\n\n
CATEGORIES:Sociaal
LOCATION:Dorpshuis De Kwaker\, J.J. Allanstraat 127\, Westzaan\, 1551 RC\, 
 Nederland
X-APPLE-STRUCTURED-LOCATION;VALUE=URI;X-ADDRESS=J.J. Allanstraat 127\, West
 zaan\, 1551 RC\, Nederland;X-APPLE-RADIUS=100;X-TITLE=Dorpshuis De Kwaker:
 geo:0,0
END:VEVENT
BEGIN:VTIMEZONE
TZID:Europe/Amsterdam
X-LIC-LOCATION:Europe/Amsterdam
BEGIN:STANDARD
DTSTART:20241027T020000
TZOFFSETFROM:+0200
TZOFFSETTO:+0100
TZNAME:CET
END:STANDARD
END:VTIMEZONE
END:VCALENDAR