BEGIN:VCALENDAR
VERSION:2.0
PRODID:-//wp-events-plugin.com//7.2.3.1//EN
TZID:Europe/Amsterdam
X-WR-TIMEZONE:Europe/Amsterdam
BEGIN:VEVENT
UID:38232@agenda-zaanstreek.nl
DTSTART;TZID=Europe/Amsterdam:20250505T113000
DTEND;TZID=Europe/Amsterdam:20250505T144500
DTSTAMP:20250417T095141Z
URL:https://agenda-zaanstreek.nl/events/vrijheid-aan-tafel-5-mei-in-het-za
 ans-museum/
SUMMARY:Vrijheid aan Tafel: 5 Mei in het Zaans Museum
DESCRIPTION:Vrijheid aan Tafel: 5 Mei in het Zaans Museum\n\nMaandag 5 mei 
 2025\n11:30 – 13:00 &amp\; 13:15 – 14:45\nKosten: gratis\n\nVrijheid i
 s niet vanzelfsprekend\, schuif daarom aan in het Zaans Museum voor de Vri
 jheidsmaaltijd.\n\nDe Vrijheidsmaaltijd is een bijzondere ontmoeting aan d
 e eettafel\, waar je samen met andere museumbezoekers in gesprek gaat over
  vrijheid en onvrijheid – thema’s waar je niet elke dag bij stilstaat\
 , maar die op Bevrijdingsdag juist extra aandacht verdienen.\n\nWe eten so
 ep – Vrijheidssoep – hét symbool van de Vrijheidsmaaltijd. Dit jaar k
 omt het recept uit de keuken van Chef Jet van Nieuwkerk. Het is een heerli
 jke Minestrone met boerenkool en witte bonen.\n\nhttps://zaansmuseum.nl/zi
 en-doen/familietour-in-het-zaans-museum/Vrijheidsmaaltijd\n\n&nbsp\;
CATEGORIES:Evenement
LOCATION:Zaans Museum\, Schansend 7\, Zaandam\, 1509 AW\, Nederland
X-APPLE-STRUCTURED-LOCATION;VALUE=URI;X-ADDRESS=Schansend 7\, Zaandam\, 150
 9 AW\, Nederland;X-APPLE-RADIUS=100;X-TITLE=Zaans Museum:geo:0,0
END:VEVENT
BEGIN:VTIMEZONE
TZID:Europe/Amsterdam
X-LIC-LOCATION:Europe/Amsterdam
BEGIN:DAYLIGHT
DTSTART:20250330T030000
TZOFFSETFROM:+0100
TZOFFSETTO:+0200
TZNAME:CEST
END:DAYLIGHT
END:VTIMEZONE
END:VCALENDAR