BEGIN:VCALENDAR
VERSION:2.0
PRODID:-//wp-events-plugin.com//7.2.3.1//EN
TZID:Europe/Amsterdam
X-WR-TIMEZONE:Europe/Amsterdam
BEGIN:VEVENT
UID:35462@agenda-zaanstreek.nl
DTSTART;TZID=Europe/Amsterdam:20241109T200000
DTEND;TZID=Europe/Amsterdam:20241109T230000
DTSTAMP:20241024T124357Z
URL:https://agenda-zaanstreek.nl/events/vrijdansen-stijldansen-2/
SUMMARY:Vrijdansen - Stijldansen
DESCRIPTION:\n\n09-11-2024 20:00 - 09-11-2024 23:00\n\n\n\n\nKom een lekker
  avondje vrijdansen in de Dans Hotspot! Je bent precies op de goede plek v
 oor geweldige stijldansmuziek\, plezier en gezelligheid.&nbsp\;\n\nOok zon
 der danspartner ben je van harte welkom\, geef het even door\, via ons Dan
 ceMatch programma is er vermoedelijk wel een danspartner te vinden.&nbsp\;
 \n\nJe danst op een houten wedstrijddansvloer\, breng je dansschoenen mee 
 of schone\, droge schoenen om te wisselen. Royale vloer (18 x 22 m)\, goed
 e dj\, gratis parkeren\, prettige temperatuur door adequate luchtverversin
 g.\nMinder lezen\n\nKoop tickets\n\n\n\n&nbsp\;
CATEGORIES:Dans
LOCATION:Dans Hotspot Van Kooten\, Westzijde 71\, Zaandam\, 1506 EC\, Neder
 land
X-APPLE-STRUCTURED-LOCATION;VALUE=URI;X-ADDRESS=Westzijde 71\, Zaandam\, 15
 06 EC\, Nederland;X-APPLE-RADIUS=100;X-TITLE=Dans Hotspot Van Kooten:geo:0
 ,0
END:VEVENT
BEGIN:VTIMEZONE
TZID:Europe/Amsterdam
X-LIC-LOCATION:Europe/Amsterdam
BEGIN:STANDARD
DTSTART:20241027T020000
TZOFFSETFROM:+0200
TZOFFSETTO:+0100
TZNAME:CET
END:STANDARD
END:VTIMEZONE
END:VCALENDAR