BEGIN:VCALENDAR
VERSION:2.0
PRODID:-//wp-events-plugin.com//7.2.3.1//EN
TZID:Europe/Amsterdam
X-WR-TIMEZONE:Europe/Amsterdam
BEGIN:VEVENT
UID:38101@agenda-zaanstreek.nl
DTSTART;TZID=Europe/Amsterdam:20250426T140000
DTEND;TZID=Europe/Amsterdam:20250426T200000
DTSTAMP:20250403T093824Z
URL:https://agenda-zaanstreek.nl/events/vrienden-van-saendelft-organiseren
 -weer-koningsfeest-saendelft/
SUMMARY:Vrienden van Saendelft organiseren weer Koningsfeest Saendelft
DESCRIPTION:Voor de derde keer organiseren de Vrienden van Saendelft het Ko
 ningsfeest. Op zaterdag 26 april is het Westpark in Saendelft West nabij w
 inkelcentrum de Saen het toneel voor een gezellig samenzijn.&nbsp\;\nLive 
 entertainment\, vermaak voor de jeugd en natuurlijk hapje en drankje\nHet 
 recept voor het Koningsfeest is onveranderd. Van 14.00 tot 20.00 uur kun j
 e weer uitkijken naar live\nentertainment\, vermaak voor de jeugd en natuu
 rlijk een hapje en een drankje. De Vrienden van Saendelft\nstaan achter de
  bar. Ray Heistek van De Keuken In en de foodtruck van de Friethelden staa
 n op het\nterrein met de lekkerste snacks. Voor de kinderen zijn er divers
 e attracties en versnaperingen. De toegang\nis gratis en iedereen is welko
 m want feest vieren doe je met vrienden luidt het motto van de organisatie
 .\nKeur aan artiesten\nZoals je van de Vrienden van Saendelft kunt verwach
 ten staat er weer een keur aan artiesten op het\npodium. Bekende namen van
  eerdere evenementen georganiseerd door de Vrienden worden weer op\nhet po
 dium verwelkomt zoals Dakxs\, Benjamin\, Déon Leon en Rachel Kramer. Daar
 naast treden jong\ntalent Jessey Fields\, en lokaal talent zoals de Assend
 elftse Marianne en Zaankanter Dennis Schaper op.\nSamuel Welten\nMet gepas
 te trots presenteren de Vrienden van Saendelft aanstormend talent Samuel W
 elten op hun\npodium. De debuutsingle van deze jonge zanger “Echte Liefd
 e is te Koop” ging viral op TikTok\, stond op\nnummer éénvan de hitlij
 sten en was trending op Spotify.\nEen vaste spil in het wiel van entertain
 ment is DJ Michael FD. Al sinds het eerste evenement van de\nVrienden van 
 Saendelft is deze DJ erbij. Ook dit jaar zal hij tussen de live optredens 
 door de leukste\nplaatjes draaien. Om 14.00 uur en om 16. 00 uur wordt de 
 dansvloer het domein van de jongste gasten\nals DJ Michael FD de Kinderdis
 co open gooit.\nVrienden van Saendelft\nDe Vrienden van Saendelft bestaan 
 uit zeven vrienden die na koningsdag 2022 de handen ineen hebben\ngeslagen
  om in 2023 voor het eerst het Koningsfeest Saendelft te organiseren. Deze
  succesvolle editie\nkreeg in 2024 een vervolg en ook dit jaar is het West
 park in Saendelft op koningsdag weer the place to be.\nStormbaan Saense St
 orm keert terug naar Saendelft op zaterdag 30 augustus\nIn 2024 werd door 
 de Vrienden van Saendelft de Saense Storm georganiseerd. Tijdens dit sport
 ieve\nevenement werden bewoners uitgedaagd een stormbaan bestaande uit tie
 n opblaasbare obstakels te\ntrotseren. Bijna 1000 bewoners\, van jong tot 
 oud\, gingen de uitdaging aan en overwonnen het 175 meter\nlange parkoers.
  Naast de stormbaan was er entertainment\, eten en drinken\, en een grote 
 schuimparty.\nHet succes van de eerste editie keert dit jaar de Saense Sto
 rm terug naar Saendelft op zaterdag 30\naugustus.\nDe evenementen van de V
 rienden van Saendelft worden mogelijk gemaakt dankzij diverse sponsoren en
 \nde inzet van veel vrijwilligers. Voor meer informatie over het Koningsfe
 est Saendelft en de Saense Storm\ncheck de website www.vriendenvansaendelf
 t.nl en de social media kanalen vriendenvansaendelft op\nFacebook\, Instag
 ram en LinkedIn
CATEGORIES:Evenement
LOCATION:Winkelcentrum De Saen\, Kaaikhof 1-34\, Assendelft\, 1507 JP\, Ned
 erland
X-APPLE-STRUCTURED-LOCATION;VALUE=URI;X-ADDRESS=Kaaikhof 1-34\, Assendelft\
 , 1507 JP\, Nederland;X-APPLE-RADIUS=100;X-TITLE=Winkelcentrum De Saen:geo
 :0,0
END:VEVENT
BEGIN:VTIMEZONE
TZID:Europe/Amsterdam
X-LIC-LOCATION:Europe/Amsterdam
BEGIN:DAYLIGHT
DTSTART:20250330T030000
TZOFFSETFROM:+0100
TZOFFSETTO:+0200
TZNAME:CEST
END:DAYLIGHT
END:VTIMEZONE
END:VCALENDAR