BEGIN:VCALENDAR
VERSION:2.0
PRODID:-//wp-events-plugin.com//7.2.3.1//EN
TZID:Europe/Amsterdam
X-WR-TIMEZONE:Europe/Amsterdam
BEGIN:VEVENT
UID:36134@agenda-zaanstreek.nl
DTSTART;TZID=Europe/Amsterdam:20241211T150000
DTEND;TZID=Europe/Amsterdam:20241211T160000
DTSTAMP:20241204T110612Z
URL:https://agenda-zaanstreek.nl/events/vragenuurtje-bij-de-zaanse-regenbo
 og-3/
SUMMARY:Vragenuurtje bij De Zaanse Regenboog
DESCRIPTION:Woensdag 11 december\nVragenuurtje bij De Zaanse Regenboog. Van
  15.00 - 16.00 uur. Botenmakersstraat 42\, 1506\nTE Zaandam (benedenverdie
 ping van Discriminatie.nl)\nInfo: info@dezaanseregenboog.nl
CATEGORIES:Sociaal | LHBTQI-gemeenschap
LOCATION:Bureau Discriminatiezaken Zaanstreek/Waterland\, Botenmakersstraat
  42\, Zaandam\, 1506 TE\, Nederland
X-APPLE-STRUCTURED-LOCATION;VALUE=URI;X-ADDRESS=Botenmakersstraat 42\, Zaan
 dam\, 1506 TE\, Nederland;X-APPLE-RADIUS=100;X-TITLE=Bureau Discriminatiez
 aken Zaanstreek/Waterland:geo:0,0
END:VEVENT
BEGIN:VTIMEZONE
TZID:Europe/Amsterdam
X-LIC-LOCATION:Europe/Amsterdam
BEGIN:STANDARD
DTSTART:20241027T020000
TZOFFSETFROM:+0200
TZOFFSETTO:+0100
TZNAME:CET
END:STANDARD
END:VTIMEZONE
END:VCALENDAR