BEGIN:VCALENDAR
VERSION:2.0
PRODID:-//wp-events-plugin.com//7.2.3.1//EN
TZID:Europe/Amsterdam
X-WR-TIMEZONE:Europe/Amsterdam
BEGIN:VEVENT
UID:37137@agenda-zaanstreek.nl
DTSTART;TZID=Europe/Amsterdam:20250212T150000
DTEND;TZID=Europe/Amsterdam:20250212T160000
DTSTAMP:20250205T102124Z
URL:https://agenda-zaanstreek.nl/events/vragenuurtje-bij-de-zaanse-regenbo
 og-2/
SUMMARY:Vragenuurtje bij De Zaanse Regenboog
DESCRIPTION:Woensdag 12 februari\nVragenuurtje bij De Zaanse Regenboog. Van
  15.00 tot 16.00 uur. Botenmakersstraat 42\,\n1506 TE Zaandam (benedenverd
 ieping van Discriminatie.nl Zaanstreek- Waterland.\nInfo: info@dezaansereg
 enboog.nl
CATEGORIES:Sociaal | LHBTQI-gemeenschap
LOCATION:Bureau Discriminatiezaken Zaanstreek/Waterland\, Botenmakersstraat
  42\, Zaandam\, 1506 TE\, Nederland
X-APPLE-STRUCTURED-LOCATION;VALUE=URI;X-ADDRESS=Botenmakersstraat 42\, Zaan
 dam\, 1506 TE\, Nederland;X-APPLE-RADIUS=100;X-TITLE=Bureau Discriminatiez
 aken Zaanstreek/Waterland:geo:0,0
END:VEVENT
BEGIN:VTIMEZONE
TZID:Europe/Amsterdam
X-LIC-LOCATION:Europe/Amsterdam
BEGIN:STANDARD
DTSTART:20241027T020000
TZOFFSETFROM:+0200
TZOFFSETTO:+0100
TZNAME:CET
END:STANDARD
END:VTIMEZONE
END:VCALENDAR