BEGIN:VCALENDAR
VERSION:2.0
PRODID:-//wp-events-plugin.com//7.2.3.1//EN
TZID:Europe/Amsterdam
X-WR-TIMEZONE:Europe/Amsterdam
BEGIN:VEVENT
UID:40181@agenda-zaanstreek.nl
DTSTART;TZID=Europe/Amsterdam:20250920T133000
DTEND;TZID=Europe/Amsterdam:20250920T133000
DTSTAMP:20250915T194618Z
URL:https://agenda-zaanstreek.nl/events/vossenjacht-in-agathepark-en-blok-
 krommenie/
SUMMARY:Vossenjacht in Agathepark en Blok (Krommenie)
DESCRIPTION:https://www.deorkaan.nl/vossen-zoeken-in-agathepark-en-blok-kro
 mmenie
CATEGORIES:Jeugd
LOCATION:Speeltuinvereniging Blok\, Doctor Kuijperkade 5\, Krommenie\, 1561
  TD\, Nederland
X-APPLE-STRUCTURED-LOCATION;VALUE=URI;X-ADDRESS=Doctor Kuijperkade 5\, Krom
 menie\, 1561 TD\, Nederland;X-APPLE-RADIUS=100;X-TITLE=Speeltuinvereniging
  Blok:geo:0,0
END:VEVENT
BEGIN:VTIMEZONE
TZID:Europe/Amsterdam
X-LIC-LOCATION:Europe/Amsterdam
BEGIN:DAYLIGHT
DTSTART:20250330T030000
TZOFFSETFROM:+0100
TZOFFSETTO:+0200
TZNAME:CEST
END:DAYLIGHT
END:VTIMEZONE
END:VCALENDAR