BEGIN:VCALENDAR
VERSION:2.0
PRODID:-//wp-events-plugin.com//7.2.3.1//EN
TZID:Europe/Amsterdam
X-WR-TIMEZONE:Europe/Amsterdam
BEGIN:VEVENT
UID:36843@agenda-zaanstreek.nl
DTSTART;TZID=Europe/Amsterdam:20250122T093000
DTEND;TZID=Europe/Amsterdam:20250122T093000
DTSTAMP:20250114T201039Z
URL:https://agenda-zaanstreek.nl/events/voorleesontbijt-sjoerd-en-de-stape
 lstad/
SUMMARY:Voorleesontbijt - Sjoerd en de Stapelstad
DESCRIPTION:\n\n\n\n\n\n\n#VOORLEESONTBIJT Kom op woensdagochtend 22 januar
 i naar het Zaans Museum voor een gezellig voorleesontbijt! Barry Menger ga
 at voorlezen uit Sjoerd en de Stapelstad\, een mooi verhaal over doorzette
 n\, volhouden en nooit opgeven.\n\n\nHet ontbijt bestaat uit koffie of the
 e\, een fruitsapje\, croissant met boter en jam en een krentenbol. \n\n\nK
 osten: 6\,50 euro per persoon\nKinderen tot 4 jaar zijn gratis\, max. 2 ki
 nderen per volwassenen.\nReserveren kan via telefoonnummer: 075 681 0019\n
 \n\nBeeldcredits: Sjoerd en de Stapelstad | Counter Collective\n\n\n#voorl
 eesontbijt #nationaalvoorleesontbijt #zaanstreek\n#sjoerdendestapelstad #z
 aandam #zaansmuseum #lezen\n\n\n\n\n\n\n\n\n\n\n\n\n&nbsp\;\n\n\n\n
CATEGORIES:Jeugd
LOCATION:Zaans Museum\, Schansend 7\, Zaandam\, 1509 AW\, Nederland
X-APPLE-STRUCTURED-LOCATION;VALUE=URI;X-ADDRESS=Schansend 7\, Zaandam\, 150
 9 AW\, Nederland;X-APPLE-RADIUS=100;X-TITLE=Zaans Museum:geo:0,0
END:VEVENT
BEGIN:VTIMEZONE
TZID:Europe/Amsterdam
X-LIC-LOCATION:Europe/Amsterdam
BEGIN:STANDARD
DTSTART:20241027T020000
TZOFFSETFROM:+0200
TZOFFSETTO:+0100
TZNAME:CET
END:STANDARD
END:VTIMEZONE
END:VCALENDAR